FILENAME: O4511151.SES.971447.tif
QUADRANGLE_NAME: CAMERON
QUADRANT: SE
WEST_LONGITUDE: -111 41 15.00000
EAST_LONGITUDE: -111 37 30.00000
NORTH_LATITUDE: 45 11 15.00000
SOUTH_LATITUDE: 45 7 30.00000
PRODUCTION_DATE: 1999 2 26
RASTER_ORDER: LEFT_RIGHT/TOP_BOTTOM
BAND_ORGANIZATION: SINGLE FILE
BAND_CONTENT: BLACK&WHITE
BAND_CONTENT: UNDEFINED
BAND_CONTENT: UNDEFINED
BITS_PER_PIXEL: 8
SAMPLES_AND_LINES: 5635 7594
HORIZONTAL_DATUM: NAD83
HORIZONTAL_COORDINATE_SYSTEM: UTM
COORDINATE_ZONE: 12
HORIZONTAL_UNITS: METERS
HORIZONTAL_RESOLUTION: 1.00000
SECONDARY_HORIZONTAL_DATUM: NAD27
XY_ORIGIN: 445568.00000 5004310.00000
SECONDARY_XY_ORIGIN: 445629.69900 5004100.19700
NATION: US
NATION: "SCIENCE
STATE: MT
NW_QUAD_CORNER_XY: 445991.50800 5004009.49300
NE_QUAD_CORNER_XY: 450901.37000 5003969.59600
SE_QUAD_CORNERY_XY: 450847.66700 4997026.44900
SW_QUAD_CORNER_XY: 445932.43400 4997066.34600
SECONDARY_NW_QUAD_XY: 445989.90700 5003792.14600
SECONDARY_NE_QUAD_XY: 450899.91500 5003752.24800
SECONDARY_SE_QUAD_XY: 450846.21200 4996809.15500
SECONDARY_SW_QUAD_XY: 445930.83400 4996849.05300
RMSE_XY: 0.90000
IMAGE_SOURCE: BLACK AND WHITE FILM
SOURCE_IMAGE_ID: NAPP 8371 157
SOURCE_IMAGE_DATE: 1995 06 30
SOURCE_DEM_DATE: 1988 00 00
AGENCY: WESTERN MAPPING CENTER (WMC)
PRODUCER: UNDEFINED
PRODUCTION_SYSTEM: GIS/MAGIC
COMPRESSION: UNDEFINED
STANDARD_VERSION: 1996 12
METADATA_DATE: 1999 03 01
DATA_FILE_SIZE: 42797825
BYTE_COUNT: 5635
