FILENAME: O4511147.NWS.981552.tif
QUADRANGLE_NAME: HIDDEN LAKE
QUADRANT: NW
WEST_LONGITUDE: -111 15 0.00000
EAST_LONGITUDE: -111 11 15.00000
NORTH_LATITUDE: 45 22 30.00000
SOUTH_LATITUDE: 45 18 45.00000
PRODUCTION_DATE: 1999 3 11
RASTER_ORDER: LEFT_RIGHT/TOP_BOTTOM
BAND_ORGANIZATION: SINGLE FILE
BAND_CONTENT: BLACK&WHITE
BAND_CONTENT: UNDEFINED
BAND_CONTENT: UNDEFINED
BITS_PER_PIXEL: 8
SAMPLES_AND_LINES: 5580 7567
HORIZONTAL_DATUM: NAD83
HORIZONTAL_COORDINATE_SYSTEM: UTM
COORDINATE_ZONE: 12
HORIZONTAL_UNITS: METERS
HORIZONTAL_RESOLUTION: 1.00000
SECONDARY_HORIZONTAL_DATUM: NAD27
XY_ORIGIN: 480040.00000 5024940.00000
SECONDARY_XY_ORIGIN: 480101.07700 5024730.22600
NATION: US
NATION: "SCIENCE
STATE: MT
NW_QUAD_CORNER_XY: 480425.12900 5024639.91500
NE_QUAD_CORNER_XY: 485318.84600 5024626.61700
SE_QUAD_CORNERY_XY: 485302.68300 5017683.24000
SW_QUAD_CORNER_XY: 480403.57800 5017696.53800
SECONDARY_NW_QUAD_XY: 480424.54600 5024422.40700
SECONDARY_NE_QUAD_XY: 485318.40900 5024409.10900
SECONDARY_SE_QUAD_XY: 485302.24600 5017465.78200
SECONDARY_SW_QUAD_XY: 480402.99500 5017479.08100
RMSE_XY: 2.90000
IMAGE_SOURCE: BLACK AND WHITE FILM
SOURCE_IMAGE_ID: NAPP 8375 105
SOURCE_IMAGE_DATE: 1995 08 12
SOURCE_IMAGE_ID: NAPP 8375 204
SOURCE_IMAGE_DATE: 1995 08 12
SOURCE_IMAGE_ID: NAPP 8375 203
SOURCE_IMAGE_DATE: 1995 08 12
SOURCE_IMAGE_ID: NAPP 8375 202
SOURCE_IMAGE_DATE: 1995 08 12
SOURCE_IMAGE_ID: NAPP 8375 107
SOURCE_IMAGE_DATE: 1995 08 12
SOURCE_DEM_DATE: 1997 01 01
AGENCY: WESTERN MAPPING CENTER (WMC)
PRODUCER: UNDEFINED
PRODUCTION_SYSTEM: GIS/MAGIC
COMPRESSION: UNDEFINED
STANDARD_VERSION: 1996 12
METADATA_DATE: 1999 03 26
DATA_FILE_SIZE: 42229440
BYTE_COUNT: 5580
