FILENAME: O4511147.SWS.981554.tif
QUADRANGLE_NAME: HIDDEN LAKE
QUADRANT: SW
WEST_LONGITUDE: -111 15 0.00000
EAST_LONGITUDE: -111 11 15.00000
NORTH_LATITUDE: 45 18 45.00000
SOUTH_LATITUDE: 45 15 0.00000
PRODUCTION_DATE: 1999 3 11
RASTER_ORDER: LEFT_RIGHT/TOP_BOTTOM
BAND_ORGANIZATION: SINGLE FILE
BAND_CONTENT: BLACK&WHITE
BAND_CONTENT: UNDEFINED
BAND_CONTENT: UNDEFINED
BITS_PER_PIXEL: 8
SAMPLES_AND_LINES: 5585 7567
HORIZONTAL_DATUM: NAD83
HORIZONTAL_COORDINATE_SYSTEM: UTM
COORDINATE_ZONE: 12
HORIZONTAL_UNITS: METERS
HORIZONTAL_RESOLUTION: 1.00000
SECONDARY_HORIZONTAL_DATUM: NAD27
XY_ORIGIN: 480019.00000 5017997.00000
SECONDARY_XY_ORIGIN: 480080.12800 5017787.27600
NATION: US
NATION: "SCIENCE
STATE: MT
NW_QUAD_CORNER_XY: 480403.57800 5017696.53800
NE_QUAD_CORNER_XY: 485302.68300 5017683.24000
SE_QUAD_CORNERY_XY: 485286.53800 5010739.93900
SW_QUAD_CORNER_XY: 480382.05000 5010753.23700
SECONDARY_NW_QUAD_XY: 480402.99500 5017479.08100
SECONDARY_NE_QUAD_XY: 485302.24600 5017465.78200
SECONDARY_SE_QUAD_XY: 485286.10100 5010522.53300
SECONDARY_SW_QUAD_XY: 480381.46800 5010535.83200
RMSE_XY: 1.20000
IMAGE_SOURCE: BLACK AND WHITE FILM
SOURCE_IMAGE_ID: NAPP 8375 108
SOURCE_IMAGE_DATE: 1995 08 12
SOURCE_IMAGE_ID: NAPP 8375 206
SOURCE_IMAGE_DATE: 1995 08 12
SOURCE_IMAGE_ID: NAPP 8375 109
SOURCE_IMAGE_DATE: 1995 08 12
SOURCE_IMAGE_ID: NAPP 8375 107
SOURCE_IMAGE_DATE: 1995 08 12
SOURCE_DEM_DATE: 1997 01 01
AGENCY: WESTERN MAPPING CENTER (WMC)
PRODUCER: UNDEFINED
PRODUCTION_SYSTEM: GIS/MAGIC
COMPRESSION: UNDEFINED
STANDARD_VERSION: 1996 12
METADATA_DATE: 1999 03 26
DATA_FILE_SIZE: 42267280
BYTE_COUNT: 5585
