FILENAME: O4511146.NWS.981482.tif
QUADRANGLE_NAME: GALLATIN PEAK
QUADRANT: NW
WEST_LONGITUDE: -111 22 30.00000
EAST_LONGITUDE: -111 18 45.00000
NORTH_LATITUDE: 45 22 30.00000
SOUTH_LATITUDE: 45 18 45.00000
PRODUCTION_DATE: 1999 3 11
RASTER_ORDER: LEFT_RIGHT/TOP_BOTTOM
BAND_ORGANIZATION: SINGLE FILE
BAND_CONTENT: BLACK&WHITE
BAND_CONTENT: UNDEFINED
BAND_CONTENT: UNDEFINED
BITS_PER_PIXEL: 8
SAMPLES_AND_LINES: 5591 7575
HORIZONTAL_DATUM: NAD83
HORIZONTAL_COORDINATE_SYSTEM: UTM
COORDINATE_ZONE: 12
HORIZONTAL_UNITS: METERS
HORIZONTAL_RESOLUTION: 1.00000
SECONDARY_HORIZONTAL_DATUM: NAD27
XY_ORIGIN: 470242.00000 5024978.00000
SECONDARY_XY_ORIGIN: 470303.24000 5024768.14100
NATION: US
NATION: "SCIENCE
STATE: MT
NW_QUAD_CORNER_XY: 470637.69400 5024677.90800
NE_QUAD_CORNER_XY: 475531.41100 5024657.01200
SE_QUAD_CORNERY_XY: 475504.47300 5017713.63500
SW_QUAD_CORNER_XY: 470605.36800 5017734.53200
SECONDARY_NW_QUAD_XY: 470636.82100 5024460.40100
SECONDARY_NE_QUAD_XY: 475530.68300 5024439.50400
SECONDARY_SE_QUAD_XY: 475503.74500 5017496.17900
SECONDARY_SW_QUAD_XY: 470604.49400 5017517.07600
RMSE_XY: 2.20000
IMAGE_SOURCE: BLACK AND WHITE FILM
SOURCE_IMAGE_ID: NAPP 8375 202
SOURCE_IMAGE_DATE: 1995 08 12
SOURCE_IMAGE_ID: NAPP 8374 036
SOURCE_IMAGE_DATE: 1995 08 12
SOURCE_IMAGE_ID: NAPP 8374 034
SOURCE_IMAGE_DATE: 1995 08 12
SOURCE_IMAGE_ID: NAPP 8374 023
SOURCE_IMAGE_DATE: 1995 08 12
SOURCE_IMAGE_ID: NAPP 8374 025
SOURCE_IMAGE_DATE: 1995 08 12
SOURCE_DEM_DATE: 1997 01 01
AGENCY: WESTERN MAPPING CENTER (WMC)
PRODUCER: UNDEFINED
PRODUCTION_SYSTEM: GIS/MAGIC
COMPRESSION: UNDEFINED
STANDARD_VERSION: 1996 12
METADATA_DATE: 1999 03 26
DATA_FILE_SIZE: 42357416
BYTE_COUNT: 5591
