FILENAME: O4511145.NWS.980478.tif
QUADRANGLE_NAME: LONE MOUNTAIN
QUADRANT: NW
WEST_LONGITUDE: -111 30 0.00000
EAST_LONGITUDE: -111 26 15.00000
NORTH_LATITUDE: 45 22 30.00000
SOUTH_LATITUDE: 45 18 45.00000
PRODUCTION_DATE: 1999 3 10
RASTER_ORDER: LEFT_RIGHT/TOP_BOTTOM
BAND_ORGANIZATION: SINGLE FILE
BAND_CONTENT: BLACK&WHITE
BAND_CONTENT: UNDEFINED
BAND_CONTENT: UNDEFINED
BITS_PER_PIXEL: 8
SAMPLES_AND_LINES: 5602 7583
HORIZONTAL_DATUM: NAD83
HORIZONTAL_COORDINATE_SYSTEM: UTM
COORDINATE_ZONE: 12
HORIZONTAL_UNITS: METERS
HORIZONTAL_RESOLUTION: 1.00000
SECONDARY_HORIZONTAL_DATUM: NAD27
XY_ORIGIN: 460443.00000 5025032.00000
SECONDARY_XY_ORIGIN: 460504.40100 5024822.06200
NATION: US
NATION: "SCIENCE
STATE: MT
NW_QUAD_CORNER_XY: 460850.26200 5024731.10000
NE_QUAD_CORNER_XY: 465743.97800 5024702.60400
SE_QUAD_CORNERY_XY: 465706.26300 5017759.22900
SW_QUAD_CORNER_XY: 460807.15900 5017787.72500
SECONDARY_NW_QUAD_XY: 460849.09700 5024513.59400
SECONDARY_NE_QUAD_XY: 465742.95800 5024485.09800
SECONDARY_SE_QUAD_XY: 465705.24400 5017541.77400
SECONDARY_SW_QUAD_XY: 460805.99400 5017570.27100
RMSE_XY: 2.30000
IMAGE_SOURCE: BLACK AND WHITE FILM
SOURCE_IMAGE_ID: NAPP 8374 090
SOURCE_IMAGE_DATE: 1995 08 12
SOURCE_IMAGE_ID: NAPP 8374 091
SOURCE_IMAGE_DATE: 1995 08 12
SOURCE_IMAGE_ID: NAPP 8374 036
SOURCE_IMAGE_DATE: 1995 08 12
SOURCE_IMAGE_ID: NAPP 8374 034
SOURCE_IMAGE_DATE: 1995 08 12
SOURCE_DEM_DATE: 1997 01 01
AGENCY: WESTERN MAPPING CENTER (WMC)
PRODUCER: UNDEFINED
PRODUCTION_SYSTEM: GIS/MAGIC
COMPRESSION: UNDEFINED
STANDARD_VERSION: 1996 12
METADATA_DATE: 1999 03 26
DATA_FILE_SIZE: 42485568
BYTE_COUNT: 5602
