FILENAME: O4511143.NWS.971442.tif
QUADRANGLE_NAME: ENNIS
QUADRANT: NW
WEST_LONGITUDE: -111 45 0.00000
EAST_LONGITUDE: -111 41 15.00000
NORTH_LATITUDE: 45 22 30.00000
SOUTH_LATITUDE: 45 18 45.00000
PRODUCTION_DATE: 1999 2 26
RASTER_ORDER: LEFT_RIGHT/TOP_BOTTOM
BAND_ORGANIZATION: SINGLE FILE
BAND_CONTENT: BLACK&WHITE
BAND_CONTENT: UNDEFINED
BAND_CONTENT: UNDEFINED
BITS_PER_PIXEL: 8
SAMPLES_AND_LINES: 5625 7598
HORIZONTAL_DATUM: NAD83
HORIZONTAL_COORDINATE_SYSTEM: UTM
COORDINATE_ZONE: 12
HORIZONTAL_UNITS: METERS
HORIZONTAL_RESOLUTION: 1.00000
SECONDARY_HORIZONTAL_DATUM: NAD27
XY_ORIGIN: 440846.00000 5025184.00000
SECONDARY_XY_ORIGIN: 440907.67300 5024973.95000
NATION: US
NATION: "SCIENCE
STATE: MT
NW_QUAD_CORNER_XY: 441275.40300 5024883.07900
NE_QUAD_CORNER_XY: 446169.11700 5024839.38400
SE_QUAD_CORNERY_XY: 446109.84900 5017896.01200
SW_QUAD_CORNER_XY: 441210.74700 5017939.70700
SECONDARY_NW_QUAD_XY: 441273.65600 5024665.57800
SECONDARY_NE_QUAD_XY: 446167.51500 5024621.88200
SECONDARY_SE_QUAD_XY: 446108.24800 5017678.56100
SECONDARY_SW_QUAD_XY: 441209.00000 5017722.25700
RMSE_XY: 2.30000
IMAGE_SOURCE: BLACK AND WHITE FILM
SOURCE_IMAGE_ID: NAPP 8371 042
SOURCE_IMAGE_DATE: 1995 06 30
SOURCE_DEM_DATE: 1997 01 01
AGENCY: WESTERN MAPPING CENTER (WMC)
PRODUCER: UNDEFINED
PRODUCTION_SYSTEM: GIS/MAGIC
COMPRESSION: UNDEFINED
STANDARD_VERSION: 1996 12
METADATA_DATE: 1999 03 01
DATA_FILE_SIZE: 42744375
BYTE_COUNT: 5625
