FILENAME: O4511143.SWS.971444.tif
QUADRANGLE_NAME: ENNIS
QUADRANT: SW
WEST_LONGITUDE: -111 45 0.00000
EAST_LONGITUDE: -111 41 15.00000
NORTH_LATITUDE: 45 18 45.00000
SOUTH_LATITUDE: 45 15 0.00000
PRODUCTION_DATE: 1999 2 26
RASTER_ORDER: LEFT_RIGHT/TOP_BOTTOM
BAND_ORGANIZATION: SINGLE FILE
BAND_CONTENT: BLACK&WHITE
BAND_CONTENT: UNDEFINED
BAND_CONTENT: UNDEFINED
BITS_PER_PIXEL: 8
SAMPLES_AND_LINES: 5630 7597
HORIZONTAL_DATUM: NAD83
HORIZONTAL_COORDINATE_SYSTEM: UTM
COORDINATE_ZONE: 12
HORIZONTAL_UNITS: METERS
HORIZONTAL_RESOLUTION: 1.00000
SECONDARY_HORIZONTAL_DATUM: NAD27
XY_ORIGIN: 440781.00000 5018240.00000
SECONDARY_XY_ORIGIN: 440842.70100 5018030.00900
NATION: US
NATION: "SCIENCE
STATE: MT
NW_QUAD_CORNER_XY: 441210.74700 5017939.70700
NE_QUAD_CORNER_XY: 446109.84900 5017896.01200
SE_QUAD_CORNERY_XY: 446050.64600 5010952.71500
SW_QUAD_CORNER_XY: 441146.16200 5010996.41100
SECONDARY_NW_QUAD_XY: 441209.00000 5017722.25700
SECONDARY_NE_QUAD_XY: 446108.24800 5017678.56100
SECONDARY_SE_QUAD_XY: 446049.04500 5010735.31500
SECONDARY_SW_QUAD_XY: 441144.41500 5010779.01300
RMSE_XY: 2.10000
IMAGE_SOURCE: BLACK AND WHITE FILM
SOURCE_IMAGE_ID: NAPP 8371 040
SOURCE_IMAGE_DATE: 1995 06 30
SOURCE_DEM_DATE: 1997 01 01
AGENCY: WESTERN MAPPING CENTER (WMC)
PRODUCER: UNDEFINED
PRODUCTION_SYSTEM: GIS/MAGIC
COMPRESSION: UNDEFINED
STANDARD_VERSION: 1996 12
METADATA_DATE: 1999 03 01
DATA_FILE_SIZE: 42776740
BYTE_COUNT: 5630
