FILENAME: O4511142.NWS.789262.tif
QUADRANGLE_NAME: EIGHTMILE CREEK
QUADRANT: NW
WEST_LONGITUDE: -111 52 30.00000
EAST_LONGITUDE: -111 48 45.00000
NORTH_LATITUDE: 45 22 30.00000
SOUTH_LATITUDE: 45 18 45.00000
PRODUCTION_DATE: 1997 11 24
RASTER_ORDER: LEFT_RIGHT/TOP_BOTTOM
BAND_ORGANIZATION: SINGLE FILE
BAND_CONTENT: BLACK&WHITE
BAND_CONTENT: UNDEFINED
BAND_CONTENT: UNDEFINED
BITS_PER_PIXEL: 8
SAMPLES_AND_LINES: 5633 7602
HORIZONTAL_DATUM: NAD83
HORIZONTAL_COORDINATE_SYSTEM: UTM
COORDINATE_ZONE: 12
HORIZONTAL_UNITS: METERS
HORIZONTAL_RESOLUTION: 1.00000
SECONDARY_HORIZONTAL_DATUM: NAD27
XY_ORIGIN: 431049.32800 5025281.36800
SECONDARY_XY_ORIGIN: 431111.00300 5025071.35900
NATION: US
STATE: MT
NW_QUAD_CORNER_XY: 431487.97800 5024981.86800
NE_QUAD_CORNER_XY: 436381.69000 5024930.57400
SE_QUAD_CORNERY_XY: 436311.64600 5017987.20300
SW_QUAD_CORNER_XY: 431412.54500 5018038.49900
SECONDARY_NW_QUAD_XY: 431485.94000 5024764.37000
SECONDARY_NE_QUAD_XY: 436379.79700 5024713.07400
SECONDARY_SE_QUAD_XY: 436309.75300 5017769.75500
SECONDARY_SW_QUAD_XY: 431410.50700 5017821.05200
RMSE_XY: 2.60000
IMAGE_SOURCE: BLACK AND WHITE FILM
SOURCE_IMAGE_ID: NAPP 8375 59
SOURCE_IMAGE_DATE: 1995 8 12
SOURCE_DEM_DATE: 1997 11 24
AGENCY: WESTERN MAPPING CENTER (WMC)
PRODUCER: NIES MAPPING GROUP
PRODUCTION_SYSTEM: INTERGRAPH- ISPM,ISIR
COMPRESSION: UNDEFINED
STANDARD_VERSION: 1996 12
METADATA_DATE: 1998 2 20
DATA_FILE_SIZE: 42827699
BYTE_COUNT: 5633
