FILENAME: O4511142.SES.789263.tif
QUADRANGLE_NAME: EIGHTMILE CREEK
QUADRANT: SE
WEST_LONGITUDE: -111 48 45.00000
EAST_LONGITUDE: -111 45 0.00000
NORTH_LATITUDE: 45 18 45.00000
SOUTH_LATITUDE: 45 15 0.00000
PRODUCTION_DATE: 1997 11 24
RASTER_ORDER: LEFT_RIGHT/TOP_BOTTOM
BAND_ORGANIZATION: SINGLE FILE
BAND_CONTENT: BLACK&WHITE
BAND_CONTENT: UNDEFINED
BAND_CONTENT: UNDEFINED
BITS_PER_PIXEL: 8
SAMPLES_AND_LINES: 5633 7598
HORIZONTAL_DATUM: NAD83
HORIZONTAL_COORDINATE_SYSTEM: UTM
COORDINATE_ZONE: 12
HORIZONTAL_UNITS: METERS
HORIZONTAL_RESOLUTION: 1.00000
SECONDARY_HORIZONTAL_DATUM: NAD27
XY_ORIGIN: 435878.58100 5018286.70300
SECONDARY_XY_ORIGIN: 435940.26800 5018076.73900
NATION: US
STATE: MT
NW_QUAD_CORNER_XY: 436311.64600 5017987.20300
NE_QUAD_CORNER_XY: 441210.74700 5017939.70800
SE_QUAD_CORNERY_XY: 441146.16200 5010996.41200
SW_QUAD_CORNER_XY: 436241.67700 5011043.90800
SECONDARY_NW_QUAD_XY: 436309.75300 5017769.75500
SECONDARY_NE_QUAD_XY: 441209.00000 5017722.25800
SECONDARY_SE_QUAD_XY: 441144.41500 5010779.01300
SECONDARY_SW_QUAD_XY: 436239.78500 5010826.51100
RMSE_XY: 2.50000
IMAGE_SOURCE: BLACK AND WHITE FILM
SOURCE_IMAGE_ID: NAPP 8371 29
SOURCE_IMAGE_DATE: 1995 6 30
SOURCE_DEM_DATE: 1997 11 24
AGENCY: WESTERN MAPPING CENTER (WMC)
PRODUCER: NIES MAPPING GROUP
PRODUCTION_SYSTEM: INTERGRAPH- ISPM,ISIR
COMPRESSION: UNDEFINED
STANDARD_VERSION: 1996 12
METADATA_DATE: 1998 2 20
DATA_FILE_SIZE: 42805167
BYTE_COUNT: 5633
