FILENAME: O4511141.NWS.789258.tif
QUADRANGLE_NAME: VIRGINIA CITY
QUADRANT: NW
WEST_LONGITUDE: -112 0 0.00000
EAST_LONGITUDE: -111 56 15.00000
NORTH_LATITUDE: 45 22 30.00000
SOUTH_LATITUDE: 45 18 45.00000
PRODUCTION_DATE: 1997 11 24
RASTER_ORDER: LEFT_RIGHT/TOP_BOTTOM
BAND_ORGANIZATION: SINGLE FILE
BAND_CONTENT: BLACK&WHITE
BAND_CONTENT: UNDEFINED
BAND_CONTENT: UNDEFINED
BITS_PER_PIXEL: 8
SAMPLES_AND_LINES: 5644 7610
HORIZONTAL_DATUM: NAD83
HORIZONTAL_COORDINATE_SYSTEM: UTM
COORDINATE_ZONE: 12
HORIZONTAL_UNITS: METERS
HORIZONTAL_RESOLUTION: 1.00000
SECONDARY_HORIZONTAL_DATUM: NAD27
XY_ORIGIN: 421250.85700 5025395.35800
SECONDARY_XY_ORIGIN: 421312.54600 5025185.38200
NATION: US
STATE: MT
NW_QUAD_CORNER_XY: 421700.55800 5025095.85800
NE_QUAD_CORNER_XY: 426594.26800 5025036.96300
SE_QUAD_CORNERY_XY: 426513.44500 5018093.59500
SW_QUAD_CORNER_XY: 421614.34600 5018152.49100
SECONDARY_NW_QUAD_XY: 421698.22700 5024878.36300
SECONDARY_NE_QUAD_XY: 426592.08300 5024819.46600
SECONDARY_SE_QUAD_XY: 426511.26100 5017876.14900
SECONDARY_SW_QUAD_XY: 421612.01600 5017935.04700
RMSE_XY: 3.20000
IMAGE_SOURCE: BLACK AND WHITE FILM
SOURCE_IMAGE_ID: NAPP 8376 160
SOURCE_IMAGE_DATE: 1995 8 15
SOURCE_DEM_DATE: 1997 11 24
AGENCY: WESTERN MAPPING CENTER (WMC)
PRODUCER: NIES MAPPING GROUP
PRODUCTION_SYSTEM: INTERGRAPH- ISPM,ISIR
COMPRESSION: UNDEFINED
STANDARD_VERSION: 1996 12
METADATA_DATE: 1998 2 20
DATA_FILE_SIZE: 42956484
BYTE_COUNT: 5644
