FILENAME: O4511141.SWS.789260.tif
QUADRANGLE_NAME: VIRGINIA CITY
QUADRANT: SW
WEST_LONGITUDE: -112 0 0.00000
EAST_LONGITUDE: -111 56 15.00000
NORTH_LATITUDE: 45 18 45.00000
SOUTH_LATITUDE: 45 15 0.00000
PRODUCTION_DATE: 1997 11 24
RASTER_ORDER: LEFT_RIGHT/TOP_BOTTOM
BAND_ORGANIZATION: SINGLE FILE
BAND_CONTENT: BLACK&WHITE
BAND_CONTENT: UNDEFINED
BAND_CONTENT: UNDEFINED
BITS_PER_PIXEL: 8
SAMPLES_AND_LINES: 5649 7610
HORIZONTAL_DATUM: NAD83
HORIZONTAL_COORDINATE_SYSTEM: UTM
COORDINATE_ZONE: 12
HORIZONTAL_UNITS: METERS
HORIZONTAL_RESOLUTION: 1.00000
SECONDARY_HORIZONTAL_DATUM: NAD27
XY_ORIGIN: 421164.76100 5018451.99100
SECONDARY_XY_ORIGIN: 421226.43000 5018242.09200
NATION: US
STATE: MT
NW_QUAD_CORNER_XY: 421614.34600 5018152.49100
NE_QUAD_CORNER_XY: 426513.44500 5018093.59500
SE_QUAD_CORNERY_XY: 426432.71000 5011150.30100
SW_QUAD_CORNER_XY: 421528.22800 5011209.19900
SECONDARY_NW_QUAD_XY: 421612.01600 5017935.04700
SECONDARY_NE_QUAD_XY: 426511.26100 5017876.14900
SECONDARY_SE_QUAD_XY: 426430.52700 5010932.90800
SECONDARY_SW_QUAD_XY: 421525.89900 5010991.80700
RMSE_XY: 2.10000
IMAGE_SOURCE: BLACK AND WHITE FILM
SOURCE_IMAGE_ID: NAPP 8376 158
SOURCE_IMAGE_DATE: 1995 8 15
SOURCE_DEM_DATE: 1997 11 24
AGENCY: WESTERN MAPPING CENTER (WMC)
PRODUCER: NIES MAPPING GROUP
PRODUCTION_SYSTEM: INTERGRAPH- ISPM,ISIR
COMPRESSION: UNDEFINED
STANDARD_VERSION: 1996 12
METADATA_DATE: 1998 2 20
DATA_FILE_SIZE: 42994539
BYTE_COUNT: 5649
