FILENAME: O4511139.NES.981547.tif
QUADRANGLE_NAME: GARNET MOUNTAIN
QUADRANT: NE
WEST_LONGITUDE: -111 11 15.00000
EAST_LONGITUDE: -111 7 30.00000
NORTH_LATITUDE: 45 30 0.00000
SOUTH_LATITUDE: 45 26 15.00000
PRODUCTION_DATE: 1999 3 23
RASTER_ORDER: LEFT_RIGHT/TOP_BOTTOM
BAND_ORGANIZATION: SINGLE FILE
BAND_CONTENT: BLACK&WHITE
BAND_CONTENT: UNDEFINED
BAND_CONTENT: UNDEFINED
BITS_PER_PIXEL: 8
SAMPLES_AND_LINES: 5564 7564
HORIZONTAL_DATUM: NAD83
HORIZONTAL_COORDINATE_SYSTEM: UTM
COORDINATE_ZONE: 12
HORIZONTAL_UNITS: METERS
HORIZONTAL_RESOLUTION: 1.00000
SECONDARY_HORIZONTAL_DATUM: NAD27
XY_ORIGIN: 484972.00000 5038814.00000
SECONDARY_XY_ORIGIN: 485032.92600 5038604.11600
NATION: US
NATION: "SCIENCE
STATE: MT
NW_QUAD_CORNER_XY: 485351.22500 5038513.60000
NE_QUAD_CORNER_XY: 490234.15000 5038504.10200
SE_QUAD_CORNERY_XY: 490223.35100 5031560.57200
SW_QUAD_CORNER_XY: 485335.02700 5031570.07000
SECONDARY_NW_QUAD_XY: 485350.78800 5038295.99200
SECONDARY_NE_QUAD_XY: 490233.85900 5038286.49400
SECONDARY_SE_QUAD_XY: 490223.06000 5031343.01400
SECONDARY_SW_QUAD_XY: 485334.59000 5031352.51200
RMSE_XY: 1.80000
IMAGE_SOURCE: BLACK AND WHITE FILM
SOURCE_IMAGE_ID: NAPP 8375 165
SOURCE_IMAGE_DATE: 1995 08 12
SOURCE_IMAGE_ID: NAPP 8375 164
SOURCE_IMAGE_DATE: 1995 08 12
SOURCE_IMAGE_ID: NAPP 8375 166
SOURCE_IMAGE_DATE: 1995 08 12
SOURCE_DEM_DATE: 1992 00 00
AGENCY: WESTERN MAPPING CENTER (WMC)
PRODUCER: UNDEFINED
PRODUCTION_SYSTEM: GIS/MAGIC
COMPRESSION: UNDEFINED
STANDARD_VERSION: 1996 12
METADATA_DATE: 1999 03 26
DATA_FILE_SIZE: 42091660
BYTE_COUNT: 5564
