FILENAME: O4511139.SWS.981550.tif
QUADRANGLE_NAME: GARNET MOUNTAIN
QUADRANT: SW
WEST_LONGITUDE: -111 15 0.00000
EAST_LONGITUDE: -111 11 15.00000
NORTH_LATITUDE: 45 26 15.00000
SOUTH_LATITUDE: 45 22 30.00000
PRODUCTION_DATE: 1999 3 23
RASTER_ORDER: LEFT_RIGHT/TOP_BOTTOM
BAND_ORGANIZATION: SINGLE FILE
BAND_CONTENT: BLACK&WHITE
BAND_CONTENT: UNDEFINED
BAND_CONTENT: UNDEFINED
BITS_PER_PIXEL: 8
SAMPLES_AND_LINES: 5575 7568
HORIZONTAL_DATUM: NAD83
HORIZONTAL_COORDINATE_SYSTEM: UTM
COORDINATE_ZONE: 12
HORIZONTAL_UNITS: METERS
HORIZONTAL_RESOLUTION: 1.00000
SECONDARY_HORIZONTAL_DATUM: NAD27
XY_ORIGIN: 480062.00000 5031884.00000
SECONDARY_XY_ORIGIN: 480123.02600 5031674.17700
NATION: US
NATION: "SCIENCE
STATE: MT
NW_QUAD_CORNER_XY: 480446.70300 5031583.36800
NE_QUAD_CORNER_XY: 485335.02700 5031570.07000
SE_QUAD_CORNERY_XY: 485318.84600 5024626.61700
SW_QUAD_CORNER_XY: 480425.12900 5024639.91500
SECONDARY_NW_QUAD_XY: 480446.12000 5031365.81000
SECONDARY_NE_QUAD_XY: 485334.59000 5031352.51200
SECONDARY_SE_QUAD_XY: 485318.40900 5024409.10900
SECONDARY_SW_QUAD_XY: 480424.54600 5024422.40700
RMSE_XY: 3.20000
IMAGE_SOURCE: BLACK AND WHITE FILM
SOURCE_IMAGE_ID: NAPP 8375 104
SOURCE_IMAGE_DATE: 1995 08 12
SOURCE_IMAGE_ID: NAPP 8375 202
SOURCE_IMAGE_DATE: 1995 08 12
SOURCE_IMAGE_ID: NAPP 8375 105
SOURCE_IMAGE_DATE: 1995 08 12
SOURCE_IMAGE_ID: NAPP 8375 103
SOURCE_IMAGE_DATE: 1995 08 12
SOURCE_DEM_DATE: 1992 00 00
AGENCY: WESTERN MAPPING CENTER (WMC)
PRODUCER: UNDEFINED
PRODUCTION_SYSTEM: GIS/MAGIC
COMPRESSION: UNDEFINED
STANDARD_VERSION: 1996 12
METADATA_DATE: 1999 03 26
DATA_FILE_SIZE: 42197175
BYTE_COUNT: 5575
