FILENAME: O4511138.NES.981477.tif
QUADRANGLE_NAME: BEACON POINT
QUADRANT: NE
WEST_LONGITUDE: -111 18 45.00000
EAST_LONGITUDE: -111 15 0.00000
NORTH_LATITUDE: 45 30 0.00000
SOUTH_LATITUDE: 45 26 15.00000
PRODUCTION_DATE: 1999 3 23
RASTER_ORDER: LEFT_RIGHT/TOP_BOTTOM
BAND_ORGANIZATION: SINGLE FILE
BAND_CONTENT: BLACK&WHITE
BAND_CONTENT: UNDEFINED
BAND_CONTENT: UNDEFINED
BITS_PER_PIXEL: 8
SAMPLES_AND_LINES: 5575 7571
HORIZONTAL_DATUM: NAD83
HORIZONTAL_COORDINATE_SYSTEM: UTM
COORDINATE_ZONE: 12
HORIZONTAL_UNITS: METERS
HORIZONTAL_RESOLUTION: 1.00000
SECONDARY_HORIZONTAL_DATUM: NAD27
XY_ORIGIN: 475195.00000 5038844.00000
SECONDARY_XY_ORIGIN: 475256.06300 5038634.08300
NATION: US
NATION: "SCIENCE
STATE: MT
NW_QUAD_CORNER_XY: 475585.37700 5038543.99300
NE_QUAD_CORNER_XY: 480468.30100 5038526.89700
SE_QUAD_CORNERY_XY: 480446.70300 5031583.36800
SW_QUAD_CORNER_XY: 475558.37900 5031600.46400
SECONDARY_NW_QUAD_XY: 475584.64800 5038326.38600
SECONDARY_NE_QUAD_XY: 480467.71800 5038309.29000
SECONDARY_SE_QUAD_XY: 480446.12000 5031365.81000
SECONDARY_SW_QUAD_XY: 475557.65100 5031382.90700
RMSE_XY: 1.20000
IMAGE_SOURCE: BLACK AND WHITE FILM
SOURCE_IMAGE_ID: NAPP 8375 199
SOURCE_IMAGE_DATE: 1995 08 12
SOURCE_IMAGE_ID: NAPP 8374 027
SOURCE_IMAGE_DATE: 1995 08 12
SOURCE_IMAGE_ID: NAPP 8375 200
SOURCE_IMAGE_DATE: 1995 08 12
SOURCE_IMAGE_ID: NAPP 8375 198
SOURCE_IMAGE_DATE: 1995 08 12
SOURCE_DEM_DATE: 1992 00 00
AGENCY: WESTERN MAPPING CENTER (WMC)
PRODUCER: UNDEFINED
PRODUCTION_SYSTEM: GIS/MAGIC
COMPRESSION: UNDEFINED
STANDARD_VERSION: 1996 12
METADATA_DATE: 1999 03 26
DATA_FILE_SIZE: 42213900
BYTE_COUNT: 5575
