FILENAME: O4511136.SES.979629.tif
QUADRANGLE_NAME: CHERRY LAKE
QUADRANT: SE
WEST_LONGITUDE: -111 33 45.00000
EAST_LONGITUDE: -111 30 0.00000
NORTH_LATITUDE: 45 26 15.00000
SOUTH_LATITUDE: 45 22 30.00000
PRODUCTION_DATE: 1999 3 23
RASTER_ORDER: LEFT_RIGHT/TOP_BOTTOM
BAND_ORGANIZATION: SINGLE FILE
BAND_CONTENT: BLACK&WHITE
BAND_CONTENT: UNDEFINED
BAND_CONTENT: UNDEFINED
BITS_PER_PIXEL: 8
SAMPLES_AND_LINES: 5603 7586
HORIZONTAL_DATUM: NAD83
HORIZONTAL_COORDINATE_SYSTEM: UTM
COORDINATE_ZONE: 12
HORIZONTAL_UNITS: METERS
HORIZONTAL_RESOLUTION: 1.00000
SECONDARY_HORIZONTAL_DATUM: NAD27
XY_ORIGIN: 455592.00000 5032007.00000
SECONDARY_XY_ORIGIN: 455653.43100 5031796.98400
NATION: US
NATION: "SCIENCE
STATE: MT
NW_QUAD_CORNER_XY: 456005.09000 5031706.84400
NE_QUAD_CORNER_XY: 460893.41100 5031674.55000
SE_QUAD_CORNERY_XY: 460850.26200 5024731.10000
SW_QUAD_CORNER_XY: 455956.54600 5024763.39500
SECONDARY_NW_QUAD_XY: 456003.77900 5031489.29000
SECONDARY_NE_QUAD_XY: 460892.24600 5031456.99500
SECONDARY_SE_QUAD_XY: 460849.09700 5024513.59400
SECONDARY_SW_QUAD_XY: 455955.23500 5024545.89000
RMSE_XY: 2.00000
IMAGE_SOURCE: BLACK AND WHITE FILM
SOURCE_IMAGE_ID: NAPP 8374 092
SOURCE_IMAGE_DATE: 1995 08 12
SOURCE_IMAGE_ID: NAPP 8376 104
SOURCE_IMAGE_DATE: 1995 08 15
SOURCE_IMAGE_ID: NAPP 8376 103
SOURCE_IMAGE_DATE: 1995 08 15
SOURCE_IMAGE_ID: NAPP 8374 100
SOURCE_IMAGE_DATE: 1995 08 12
SOURCE_IMAGE_ID: NAPP 8374 098
SOURCE_IMAGE_DATE: 1995 08 12
SOURCE_DEM_DATE: 1982 00 00
AGENCY: WESTERN MAPPING CENTER (WMC)
PRODUCER: UNDEFINED
PRODUCTION_SYSTEM: GIS/MAGIC
COMPRESSION: UNDEFINED
STANDARD_VERSION: 1996 12
METADATA_DATE: 1999 03 26
DATA_FILE_SIZE: 42509961
BYTE_COUNT: 5603
