FILENAME: O4511135.NWS.979467.tif
QUADRANGLE_NAME: ENNIS LAKE
QUADRANT: NW
WEST_LONGITUDE: -111 45 0.00000
EAST_LONGITUDE: -111 41 15.00000
NORTH_LATITUDE: 45 30 0.00000
SOUTH_LATITUDE: 45 26 15.00000
PRODUCTION_DATE: 1999 3 22
RASTER_ORDER: LEFT_RIGHT/TOP_BOTTOM
BAND_ORGANIZATION: SINGLE FILE
BAND_CONTENT: BLACK&WHITE
BAND_CONTENT: UNDEFINED
BAND_CONTENT: UNDEFINED
BITS_PER_PIXEL: 8
SAMPLES_AND_LINES: 5614 7598
HORIZONTAL_DATUM: NAD83
HORIZONTAL_COORDINATE_SYSTEM: UTM
COORDINATE_ZONE: 12
HORIZONTAL_UNITS: METERS
HORIZONTAL_RESOLUTION: 1.00000
SECONDARY_HORIZONTAL_DATUM: NAD27
XY_ORIGIN: 440975.00000 5039071.00000
SECONDARY_XY_ORIGIN: 441036.61700 5038860.83500
NATION: US
NATION: "SCIENCE
STATE: MT
NW_QUAD_CORNER_XY: 441404.92600 5038770.04600
NE_QUAD_CORNER_XY: 446287.84500 5038726.35400
SE_QUAD_CORNERY_XY: 446228.44900 5031782.83200
SW_QUAD_CORNER_XY: 441340.13000 5031826.52500
SECONDARY_NW_QUAD_XY: 441403.17800 5038552.44600
SECONDARY_NE_QUAD_XY: 446286.24200 5038508.75300
SECONDARY_SE_QUAD_XY: 446226.84600 5031565.27900
SECONDARY_SW_QUAD_XY: 441338.38100 5031608.97400
RMSE_XY: 1.30000
IMAGE_SOURCE: BLACK AND WHITE FILM
SOURCE_IMAGE_ID: NAPP 8371 046
SOURCE_IMAGE_DATE: 1995 06 30
SOURCE_IMAGE_ID: NAPP 8371 047
SOURCE_IMAGE_DATE: 1995 06 30
SOURCE_DEM_DATE: 1997 01 01
AGENCY: WESTERN MAPPING CENTER (WMC)
PRODUCER: UNDEFINED
PRODUCTION_SYSTEM: GIS/MAGIC
COMPRESSION: UNDEFINED
STANDARD_VERSION: 1996 12
METADATA_DATE: 1999 03 26
DATA_FILE_SIZE: 42660786
BYTE_COUNT: 5614
