FILENAME: O4511135.SWS.979469.tif
QUADRANGLE_NAME: ENNIS LAKE
QUADRANT: SW
WEST_LONGITUDE: -111 45 0.00000
EAST_LONGITUDE: -111 41 15.00000
NORTH_LATITUDE: 45 26 15.00000
SOUTH_LATITUDE: 45 22 30.00000
PRODUCTION_DATE: 1999 3 22
RASTER_ORDER: LEFT_RIGHT/TOP_BOTTOM
BAND_ORGANIZATION: SINGLE FILE
BAND_CONTENT: BLACK&WHITE
BAND_CONTENT: UNDEFINED
BAND_CONTENT: UNDEFINED
BITS_PER_PIXEL: 8
SAMPLES_AND_LINES: 5620 7598
HORIZONTAL_DATUM: NAD83
HORIZONTAL_COORDINATE_SYSTEM: UTM
COORDINATE_ZONE: 12
HORIZONTAL_UNITS: METERS
HORIZONTAL_RESOLUTION: 1.00000
SECONDARY_HORIZONTAL_DATUM: NAD27
XY_ORIGIN: 440910.00000 5032127.00000
SECONDARY_XY_ORIGIN: 440971.64500 5031916.89200
NATION: US
NATION: "SCIENCE
STATE: MT
NW_QUAD_CORNER_XY: 441340.13000 5031826.52500
NE_QUAD_CORNER_XY: 446228.44900 5031782.83200
SE_QUAD_CORNERY_XY: 446169.11700 5024839.38400
SW_QUAD_CORNER_XY: 441275.40300 5024883.07900
SECONDARY_NW_QUAD_XY: 441338.38100 5031608.97400
SECONDARY_NE_QUAD_XY: 446226.84600 5031565.27900
SECONDARY_SE_QUAD_XY: 446167.51500 5024621.88200
SECONDARY_SW_QUAD_XY: 441273.65600 5024665.57800
RMSE_XY: 1.70000
IMAGE_SOURCE: BLACK AND WHITE FILM
SOURCE_IMAGE_ID: NAPP 8371 044
SOURCE_IMAGE_DATE: 1995 06 30
SOURCE_DEM_DATE: 1997 01 01
AGENCY: WESTERN MAPPING CENTER (WMC)
PRODUCER: UNDEFINED
PRODUCTION_SYSTEM: GIS/MAGIC
COMPRESSION: UNDEFINED
STANDARD_VERSION: 1996 12
METADATA_DATE: 1999 03 26
DATA_FILE_SIZE: 42706380
BYTE_COUNT: 5620
