FILENAME: O4511134.NES.792732.tif
QUADRANGLE_NAME: LEONARD CREEK
QUADRANT: NE
WEST_LONGITUDE: -111 48 45.00000
EAST_LONGITUDE: -111 45 0.00000
NORTH_LATITUDE: 45 30 0.00000
SOUTH_LATITUDE: 45 26 15.00000
PRODUCTION_DATE: 1997 11 24
RASTER_ORDER: LEFT_RIGHT/TOP_BOTTOM
BAND_ORGANIZATION: SINGLE FILE
BAND_CONTENT: BLACK&WHITE
BAND_CONTENT: UNDEFINED
BAND_CONTENT: UNDEFINED
BITS_PER_PIXEL: 8
SAMPLES_AND_LINES: 5617 7598
HORIZONTAL_DATUM: NAD83
HORIZONTAL_COORDINATE_SYSTEM: UTM
COORDINATE_ZONE: 12
HORIZONTAL_UNITS: METERS
HORIZONTAL_RESOLUTION: 1.00000
SECONDARY_HORIZONTAL_DATUM: NAD27
XY_ORIGIN: 436088.76100 5039117.03800
SECONDARY_XY_ORIGIN: 436150.40300 5038906.88600
NATION: US
STATE: MT
NW_QUAD_CORNER_XY: 436522.00800 5038817.53800
NE_QUAD_CORNER_XY: 441404.92600 5038770.04700
SE_QUAD_CORNERY_XY: 441340.13000 5031826.52600
SW_QUAD_CORNER_XY: 436451.81100 5031874.01900
SECONDARY_NW_QUAD_XY: 436520.11400 5038599.94000
SECONDARY_NE_QUAD_XY: 441403.17800 5038552.44700
SECONDARY_SE_QUAD_XY: 441338.38100 5031608.97500
SECONDARY_SW_QUAD_XY: 436449.91800 5031656.46900
RMSE_XY: 2.10000
IMAGE_SOURCE: BLACK AND WHITE FILM
SOURCE_IMAGE_ID: NAPP 8371 23
SOURCE_IMAGE_DATE: 1995 6 30
SOURCE_DEM_DATE: 1997 11 24
AGENCY: WESTERN MAPPING CENTER (WMC)
PRODUCER: NIES MAPPING GROUP
PRODUCTION_SYSTEM: INTERGRAPH- ISPM,ISIR
COMPRESSION: UNDEFINED
STANDARD_VERSION: 1996 12
METADATA_DATE: 1998 2 20
DATA_FILE_SIZE: 42683583
BYTE_COUNT: 5617
