FILENAME: O4511134.NWS.792733.tif
QUADRANGLE_NAME: LEONARD CREEK
QUADRANT: NW
WEST_LONGITUDE: -111 52 30.00000
EAST_LONGITUDE: -111 48 45.00000
NORTH_LATITUDE: 45 30 0.00000
SOUTH_LATITUDE: 45 26 15.00000
PRODUCTION_DATE: 1997 11 24
RASTER_ORDER: LEFT_RIGHT/TOP_BOTTOM
BAND_ORGANIZATION: SINGLE FILE
BAND_CONTENT: BLACK&WHITE
BAND_CONTENT: UNDEFINED
BAND_CONTENT: UNDEFINED
BITS_PER_PIXEL: 8
SAMPLES_AND_LINES: 5622 7602
HORIZONTAL_DATUM: NAD83
HORIZONTAL_COORDINATE_SYSTEM: UTM
COORDINATE_ZONE: 12
HORIZONTAL_UNITS: METERS
HORIZONTAL_RESOLUTION: 1.00000
SECONDARY_HORIZONTAL_DATUM: NAD27
XY_ORIGIN: 431200.28300 5039168.33000
SECONDARY_XY_ORIGIN: 431261.95200 5038958.18800
NATION: US
STATE: MT
NW_QUAD_CORNER_XY: 431639.09200 5038868.83000
NE_QUAD_CORNER_XY: 436522.00800 5038817.53800
SE_QUAD_CORNERY_XY: 436451.81100 5031874.01900
SW_QUAD_CORNER_XY: 431563.49400 5031925.31200
SECONDARY_NW_QUAD_XY: 431637.05200 5038651.23300
SECONDARY_NE_QUAD_XY: 436520.11400 5038599.94000
SECONDARY_SE_QUAD_XY: 436449.91800 5031656.46900
SECONDARY_SW_QUAD_XY: 431561.45500 5031707.76400
RMSE_XY: 1.20000
IMAGE_SOURCE: BLACK AND WHITE FILM
SOURCE_IMAGE_ID: NAPP 8375 55
SOURCE_IMAGE_DATE: 1995 8 12
SOURCE_DEM_DATE: 1997 11 24
AGENCY: WESTERN MAPPING CENTER (WMC)
PRODUCER: NIES MAPPING GROUP
PRODUCTION_SYSTEM: INTERGRAPH- ISPM,ISIR
COMPRESSION: UNDEFINED
STANDARD_VERSION: 1996 12
METADATA_DATE: 1998 2 20
DATA_FILE_SIZE: 42744066
BYTE_COUNT: 5622
