FILENAME: O4511133.NES.792728.tif
QUADRANGLE_NAME: RAMSHORN MOUNTAIN
QUADRANT: NE
WEST_LONGITUDE: -111 56 15.00000
EAST_LONGITUDE: -111 52 30.00000
NORTH_LATITUDE: 45 30 0.00000
SOUTH_LATITUDE: 45 26 15.00000
PRODUCTION_DATE: 1997 11 24
RASTER_ORDER: LEFT_RIGHT/TOP_BOTTOM
BAND_ORGANIZATION: SINGLE FILE
BAND_CONTENT: BLACK&WHITE
BAND_CONTENT: UNDEFINED
BAND_CONTENT: UNDEFINED
BITS_PER_PIXEL: 8
SAMPLES_AND_LINES: 5628 7606
HORIZONTAL_DATUM: NAD83
HORIZONTAL_COORDINATE_SYSTEM: UTM
COORDINATE_ZONE: 12
HORIZONTAL_UNITS: METERS
HORIZONTAL_RESOLUTION: 1.00000
SECONDARY_HORIZONTAL_DATUM: NAD27
XY_ORIGIN: 426311.80600 5039223.42100
SECONDARY_XY_ORIGIN: 426373.50200 5039013.28900
NATION: US
STATE: MT
NW_QUAD_CORNER_XY: 426756.17600 5038923.92100
NE_QUAD_CORNER_XY: 431639.09200 5038868.83000
SE_QUAD_CORNERY_XY: 431563.49400 5031925.31200
SW_QUAD_CORNER_XY: 426675.17800 5031980.40500
SECONDARY_NW_QUAD_XY: 426753.99100 5038706.32600
SECONDARY_NE_QUAD_XY: 431637.05200 5038651.23300
SECONDARY_SE_QUAD_XY: 431561.45500 5031707.76400
SECONDARY_SW_QUAD_XY: 426672.99300 5031762.85800
RMSE_XY: 2.00000
IMAGE_SOURCE: BLACK AND WHITE FILM
SOURCE_IMAGE_ID: NAPP 8376 179
SOURCE_IMAGE_DATE: 1995 8 15
SOURCE_DEM_DATE: 1997 11 24
AGENCY: WESTERN MAPPING CENTER (WMC)
PRODUCER: NIES MAPPING GROUP
PRODUCTION_SYSTEM: INTERGRAPH- ISPM,ISIR
COMPRESSION: UNDEFINED
STANDARD_VERSION: 1996 12
METADATA_DATE: 1998 2 20
DATA_FILE_SIZE: 42812196
BYTE_COUNT: 5628
