FILENAME: O4511133.SES.792730.tif
QUADRANGLE_NAME: RAMSHORN MOUNTAIN
QUADRANT: SE
WEST_LONGITUDE: -111 56 15.00000
EAST_LONGITUDE: -111 52 30.00000
NORTH_LATITUDE: 45 26 15.00000
SOUTH_LATITUDE: 45 22 30.00000
PRODUCTION_DATE: 1997 11 24
RASTER_ORDER: LEFT_RIGHT/TOP_BOTTOM
BAND_ORGANIZATION: SINGLE FILE
BAND_CONTENT: BLACK&WHITE
BAND_CONTENT: UNDEFINED
BAND_CONTENT: UNDEFINED
BITS_PER_PIXEL: 8
SAMPLES_AND_LINES: 5633 7606
HORIZONTAL_DATUM: NAD83
HORIZONTAL_COORDINATE_SYSTEM: UTM
COORDINATE_ZONE: 12
HORIZONTAL_UNITS: METERS
HORIZONTAL_RESOLUTION: 1.00000
SECONDARY_HORIZONTAL_DATUM: NAD27
XY_ORIGIN: 426230.90500 5032279.90500
SECONDARY_XY_ORIGIN: 426292.59300 5032069.84300
NATION: US
STATE: MT
NW_QUAD_CORNER_XY: 426675.17800 5031980.40500
NE_QUAD_CORNER_XY: 431563.49400 5031925.31200
SE_QUAD_CORNERY_XY: 431487.97800 5024981.86800
SW_QUAD_CORNER_XY: 426594.26800 5025036.96300
SECONDARY_NW_QUAD_XY: 426672.99300 5031762.85800
SECONDARY_NE_QUAD_XY: 431561.45500 5031707.76400
SECONDARY_SE_QUAD_XY: 431485.94000 5024764.37000
SECONDARY_SW_QUAD_XY: 426592.08300 5024819.46600
RMSE_XY: 1.70000
IMAGE_SOURCE: BLACK AND WHITE FILM
SOURCE_IMAGE_ID: NAPP 8376 181
SOURCE_IMAGE_DATE: 1995 8 15
SOURCE_DEM_DATE: 1997 11 24
AGENCY: WESTERN MAPPING CENTER (WMC)
PRODUCER: NIES MAPPING GROUP
PRODUCTION_SYSTEM: INTERGRAPH- ISPM,ISIR
COMPRESSION: UNDEFINED
STANDARD_VERSION: 1996 12
METADATA_DATE: 1998 2 20
DATA_FILE_SIZE: 42850231
BYTE_COUNT: 5633
