FILENAME: O4511131.NWS.971383.tif
QUADRANGLE_NAME: GALLATIN GATEWAY
QUADRANT: NW
WEST_LONGITUDE: -111 15 0.00000
EAST_LONGITUDE: -111 11 15.00000
NORTH_LATITUDE: 45 37 30.00000
SOUTH_LATITUDE: 45 33 45.00000
PRODUCTION_DATE: 1999 2 26
RASTER_ORDER: LEFT_RIGHT/TOP_BOTTOM
BAND_ORGANIZATION: SINGLE FILE
BAND_CONTENT: BLACK&WHITE
BAND_CONTENT: UNDEFINED
BAND_CONTENT: UNDEFINED
BITS_PER_PIXEL: 8
SAMPLES_AND_LINES: 5558 7568
HORIZONTAL_DATUM: NAD83
HORIZONTAL_COORDINATE_SYSTEM: UTM
COORDINATE_ZONE: 12
HORIZONTAL_UNITS: METERS
HORIZONTAL_RESOLUTION: 1.00000
SECONDARY_HORIZONTAL_DATUM: NAD27
XY_ORIGIN: 480127.00000 5052715.00000
SECONDARY_XY_ORIGIN: 480187.89000 5052505.03100
NATION: US
NATION: "SCIENCE
STATE: MT
NW_QUAD_CORNER_XY: 480511.56700 5052414.18400
NE_QUAD_CORNER_XY: 485383.67500 5052400.88800
SE_QUAD_CORNERY_XY: 485367.44100 5045457.20600
SW_QUAD_CORNER_XY: 480489.92200 5045470.50200
SECONDARY_NW_QUAD_XY: 480510.98400 5052196.48000
SECONDARY_NE_QUAD_XY: 485383.23700 5052183.18400
SECONDARY_SE_QUAD_XY: 485367.00400 5045239.55000
SECONDARY_SW_QUAD_XY: 480489.33900 5045252.84600
RMSE_XY: 1.50000
IMAGE_SOURCE: BLACK AND WHITE FILM
SOURCE_IMAGE_ID: NAPP 8376 036
SOURCE_IMAGE_DATE: 1995 08 15
SOURCE_DEM_DATE: 1998 00 00
AGENCY: WESTERN MAPPING CENTER (WMC)
PRODUCER: UNDEFINED
PRODUCTION_SYSTEM: GIS/MAGIC
COMPRESSION: UNDEFINED
STANDARD_VERSION: 1996 12
METADATA_DATE: 1999 03 01
DATA_FILE_SIZE: 42068502
BYTE_COUNT: 5558
