FILENAME: O4511130.SWS.981476.tif
QUADRANGLE_NAME: RUBY MOUNTAIN
QUADRANT: SW
WEST_LONGITUDE: -111 22 30.00000
EAST_LONGITUDE: -111 18 45.00000
NORTH_LATITUDE: 45 33 45.00000
SOUTH_LATITUDE: 45 30 0.00000
PRODUCTION_DATE: 1999 3 23
RASTER_ORDER: LEFT_RIGHT/TOP_BOTTOM
BAND_ORGANIZATION: SINGLE FILE
BAND_CONTENT: BLACK&WHITE
BAND_CONTENT: UNDEFINED
BAND_CONTENT: UNDEFINED
BITS_PER_PIXEL: 8
SAMPLES_AND_LINES: 5575 7575
HORIZONTAL_DATUM: NAD83
HORIZONTAL_COORDINATE_SYSTEM: UTM
COORDINATE_ZONE: 12
HORIZONTAL_UNITS: METERS
HORIZONTAL_RESOLUTION: 1.00000
SECONDARY_HORIZONTAL_DATUM: NAD27
XY_ORIGIN: 470339.00000 5045809.00000
SECONDARY_XY_ORIGIN: 470400.10800 5045598.99500
NATION: US
NATION: "SCIENCE
STATE: MT
NW_QUAD_CORNER_XY: 470734.88500 5045508.49200
NE_QUAD_CORNER_XY: 475612.40300 5045487.59800
SE_QUAD_CORNERY_XY: 475585.37700 5038543.99300
SW_QUAD_CORNER_XY: 470702.45300 5038564.88800
SECONDARY_NW_QUAD_XY: 470734.01100 5045290.83700
SECONDARY_NE_QUAD_XY: 475611.67500 5045269.94200
SECONDARY_SE_QUAD_XY: 475584.64800 5038326.38600
SECONDARY_SW_QUAD_XY: 470701.57900 5038347.28200
RMSE_XY: 1.10000
IMAGE_SOURCE: BLACK AND WHITE FILM
SOURCE_IMAGE_ID: NAPP 8375 083
SOURCE_IMAGE_DATE: 1995 08 12
SOURCE_IMAGE_ID: NAPP 8374 029
SOURCE_IMAGE_DATE: 1995 08 12
SOURCE_IMAGE_ID: NAPP 8375 084
SOURCE_IMAGE_DATE: 1995 08 12
SOURCE_DEM_DATE: 1998 00 00
AGENCY: WESTERN MAPPING CENTER (WMC)
PRODUCER: UNDEFINED
PRODUCTION_SYSTEM: GIS/MAGIC
COMPRESSION: UNDEFINED
STANDARD_VERSION: 1996 12
METADATA_DATE: 1999 03 26
DATA_FILE_SIZE: 42236200
BYTE_COUNT: 5575
