FILENAME: O4511129.SES.980930.tif
QUADRANGLE_NAME: CHERRY CREEK CANYON
QUADRANT: SE
WEST_LONGITUDE: -111 26 15.00000
EAST_LONGITUDE: -111 22 30.00000
NORTH_LATITUDE: 45 33 45.00000
SOUTH_LATITUDE: 45 30 0.00000
PRODUCTION_DATE: 1999 3 23
RASTER_ORDER: LEFT_RIGHT/TOP_BOTTOM
BAND_ORGANIZATION: SINGLE FILE
BAND_CONTENT: BLACK&WHITE
BAND_CONTENT: UNDEFINED
BAND_CONTENT: UNDEFINED
BITS_PER_PIXEL: 8
SAMPLES_AND_LINES: 5580 7579
HORIZONTAL_DATUM: NAD83
HORIZONTAL_COORDINATE_SYSTEM: UTM
COORDINATE_ZONE: 12
HORIZONTAL_UNITS: METERS
HORIZONTAL_RESOLUTION: 1.00000
SECONDARY_HORIZONTAL_DATUM: NAD27
XY_ORIGIN: 465456.00000 5045834.00000
SECONDARY_XY_ORIGIN: 465517.19500 5045623.95500
NATION: US
NATION: "SCIENCE
STATE: MT
NW_QUAD_CORNER_XY: 465857.36800 5045533.18600
NE_QUAD_CORNER_XY: 470734.88500 5045508.49200
SE_QUAD_CORNERY_XY: 470702.45300 5038564.88800
SW_QUAD_CORNER_XY: 465819.53000 5038589.58300
SECONDARY_NW_QUAD_XY: 465856.34700 5045315.53200
SECONDARY_NE_QUAD_XY: 470734.01100 5045290.83700
SECONDARY_SE_QUAD_XY: 470701.57900 5038347.28200
SECONDARY_SW_QUAD_XY: 465818.51000 5038371.97700
RMSE_XY: 2.50000
IMAGE_SOURCE: BLACK AND WHITE FILM
SOURCE_IMAGE_ID: NAPP 8371 082
SOURCE_IMAGE_DATE: 1995 06 30
SOURCE_IMAGE_ID: NAPP 8371 083
SOURCE_IMAGE_DATE: 1995 06 30
SOURCE_DEM_DATE: 1992 00 00
AGENCY: WESTERN MAPPING CENTER (WMC)
PRODUCER: UNDEFINED
PRODUCTION_SYSTEM: GIS/MAGIC
COMPRESSION: UNDEFINED
STANDARD_VERSION: 1996 12
METADATA_DATE: 1999 03 26
DATA_FILE_SIZE: 42296400
BYTE_COUNT: 5580
