FILENAME: O4511128.NWS.979899.tif
QUADRANGLE_NAME: BEAR TRAP CREEK
QUADRANT: NW
WEST_LONGITUDE: -111 37 30.00000
EAST_LONGITUDE: -111 33 45.00000
NORTH_LATITUDE: 45 37 30.00000
SOUTH_LATITUDE: 45 33 45.00000
PRODUCTION_DATE: 1999 3 23
RASTER_ORDER: LEFT_RIGHT/TOP_BOTTOM
BAND_ORGANIZATION: SINGLE FILE
BAND_CONTENT: BLACK&WHITE
BAND_CONTENT: UNDEFINED
BAND_CONTENT: UNDEFINED
BITS_PER_PIXEL: 8
SAMPLES_AND_LINES: 5593 7590
HORIZONTAL_DATUM: NAD83
HORIZONTAL_COORDINATE_SYSTEM: UTM
COORDINATE_ZONE: 12
HORIZONTAL_UNITS: METERS
HORIZONTAL_RESOLUTION: 1.00000
SECONDARY_HORIZONTAL_DATUM: NAD27
XY_ORIGIN: 450860.00000 5052874.00000
SECONDARY_XY_ORIGIN: 450921.40400 5052663.78500
NATION: US
NATION: "SCIENCE
STATE: MT
NW_QUAD_CORNER_XY: 451278.93300 5052573.73600
NE_QUAD_CORNER_XY: 456151.03600 5052537.64700
SE_QUAD_CORNERY_XY: 456102.33500 5045593.97000
SW_QUAD_CORNER_XY: 451224.82000 5045630.06200
SECONDARY_NW_QUAD_XY: 451277.47500 5052356.03800
SECONDARY_NE_QUAD_XY: 456149.72400 5052319.94700
SECONDARY_SE_QUAD_XY: 456101.02300 5045376.31800
SECONDARY_SW_QUAD_XY: 451223.36200 5045412.41100
RMSE_XY: 1.70000
IMAGE_SOURCE: BLACK AND WHITE FILM
SOURCE_IMAGE_ID: NAPP 8371 117
SOURCE_IMAGE_DATE: 1995 06 30
SOURCE_IMAGE_ID: NAPP 8371 144
SOURCE_IMAGE_DATE: 1995 06 30
SOURCE_IMAGE_ID: NAPP 8371 143
SOURCE_IMAGE_DATE: 1995 06 30
SOURCE_IMAGE_ID: NAPP 8371 142
SOURCE_IMAGE_DATE: 1995 06 30
SOURCE_IMAGE_ID: NAPP 8376 098
SOURCE_IMAGE_DATE: 1995 08 15
SOURCE_DEM_DATE: 1998 00 00
AGENCY: WESTERN MAPPING CENTER (WMC)
PRODUCER: UNDEFINED
PRODUCTION_SYSTEM: GIS/MAGIC
COMPRESSION: UNDEFINED
STANDARD_VERSION: 1996 12
METADATA_DATE: 1999 03 26
DATA_FILE_SIZE: 42456463
BYTE_COUNT: 5593
