FILENAME: O4511126.NWS.979456.tif
QUADRANGLE_NAME: MALTBYS MOUND
QUADRANT: NW
WEST_LONGITUDE: -111 52 30.00000
EAST_LONGITUDE: -111 48 45.00000
NORTH_LATITUDE: 45 37 30.00000
SOUTH_LATITUDE: 45 33 45.00000
PRODUCTION_DATE: 1999 3 22
RASTER_ORDER: LEFT_RIGHT/TOP_BOTTOM
BAND_ORGANIZATION: SINGLE FILE
BAND_CONTENT: BLACK&WHITE
BAND_CONTENT: UNDEFINED
BAND_CONTENT: UNDEFINED
BITS_PER_PIXEL: 8
SAMPLES_AND_LINES: 5614 7606
HORIZONTAL_DATUM: NAD83
HORIZONTAL_COORDINATE_SYSTEM: UTM
COORDINATE_ZONE: 12
HORIZONTAL_UNITS: METERS
HORIZONTAL_RESOLUTION: 1.00000
SECONDARY_HORIZONTAL_DATUM: NAD27
XY_ORIGIN: 431350.00000 5053057.00000
SECONDARY_XY_ORIGIN: 431411.62600 5052846.71800
NATION: US
NATION: "SCIENCE
STATE: MT
NW_QUAD_CORNER_XY: 431790.53300 5052756.08900
NE_QUAD_CORNER_XY: 436662.63000 5052704.80200
SE_QUAD_CORNERY_XY: 436592.28100 5045761.13200
SW_QUAD_CORNER_XY: 431714.77100 5045812.42200
SECONDARY_NW_QUAD_XY: 431788.49200 5052538.39600
SECONDARY_NE_QUAD_XY: 436660.73500 5052487.10700
SECONDARY_SE_QUAD_XY: 436590.38700 5045543.48500
SECONDARY_SW_QUAD_XY: 431712.73100 5045594.77600
RMSE_XY: 3.00000
IMAGE_SOURCE: BLACK AND WHITE FILM
SOURCE_IMAGE_ID: NAPP 8375 051
SOURCE_IMAGE_DATE: 1995 08 12
SOURCE_IMAGE_ID: NAPP 8375 052
SOURCE_IMAGE_DATE: 1995 08 12
SOURCE_IMAGE_ID: NAPP 8375 050
SOURCE_IMAGE_DATE: 1995 08 12
SOURCE_DEM_DATE: 1997 01 01
AGENCY: WESTERN MAPPING CENTER (WMC)
PRODUCER: UNDEFINED
PRODUCTION_SYSTEM: GIS/MAGIC
COMPRESSION: UNDEFINED
STANDARD_VERSION: 1996 12
METADATA_DATE: 1999 03 26
DATA_FILE_SIZE: 42705698
BYTE_COUNT: 5614
