FILENAME: O4511125.SES.789964.tif
QUADRANGLE_NAME: POTOSI PEAK
QUADRANT: SE
WEST_LONGITUDE: -111 56 15.00000
EAST_LONGITUDE: -111 52 30.00000
NORTH_LATITUDE: 45 33 45.00000
SOUTH_LATITUDE: 45 30 0.00000
PRODUCTION_DATE: 1997 12 15
RASTER_ORDER: LEFT_RIGHT/TOP_BOTTOM
BAND_ORGANIZATION: SINGLE FILE
BAND_CONTENT: BLACK&WHITE
BAND_CONTENT: UNDEFINED
BAND_CONTENT: UNDEFINED
BITS_PER_PIXEL: 8
SAMPLES_AND_LINES: 5622 7606
HORIZONTAL_DATUM: NAD83
HORIZONTAL_COORDINATE_SYSTEM: UTM
COORDINATE_ZONE: 12
HORIZONTAL_UNITS: METERS
HORIZONTAL_RESOLUTION: 1.00000
SECONDARY_HORIZONTAL_DATUM: NAD27
XY_ORIGIN: 426392.79600 5046167.01200
SECONDARY_XY_ORIGIN: 426454.47300 5045956.80800
NATION: US
STATE: MT
NW_QUAD_CORNER_XY: 426837.26300 5045867.51200
NE_QUAD_CORNER_XY: 431714.77100 5045812.42200
SE_QUAD_CORNERY_XY: 431639.09200 5038868.83000
SW_QUAD_CORNER_XY: 426756.17600 5038923.92100
SECONDARY_NW_QUAD_XY: 426835.07600 5045649.86800
SECONDARY_NE_QUAD_XY: 431712.73100 5045594.77700
SECONDARY_SE_QUAD_XY: 431637.05200 5038651.23300
SECONDARY_SW_QUAD_XY: 426753.99100 5038706.32600
RMSE_XY: 1.70000
IMAGE_SOURCE: BLACK AND WHITE FILM
SOURCE_IMAGE_ID: NAPP 8376 177
SOURCE_IMAGE_DATE: 1995 8 15
SOURCE_DEM_DATE: 1997 12 15
AGENCY: WESTERN MAPPING CENTER (WMC)
PRODUCER: NIES MAPPING GROUP
PRODUCTION_SYSTEM: INTERGRAPH- ISPM,ISIR
COMPRESSION: UNDEFINED
STANDARD_VERSION: 1996 12
METADATA_DATE: 1998 2 5
DATA_FILE_SIZE: 42766554
BYTE_COUNT: 5622
