FILENAME: O4511124.NWS.971401.tif
QUADRANGLE_NAME: BOZEMAN
QUADRANT: NW
WEST_LONGITUDE: -111 7 30.00000
EAST_LONGITUDE: -111 3 45.00000
NORTH_LATITUDE: 45 45 0.00000
SOUTH_LATITUDE: 45 41 15.00000
PRODUCTION_DATE: 1999 2 26
RASTER_ORDER: LEFT_RIGHT/TOP_BOTTOM
BAND_ORGANIZATION: SINGLE FILE
BAND_CONTENT: BLACK&WHITE
BAND_CONTENT: UNDEFINED
BAND_CONTENT: UNDEFINED
BITS_PER_PIXEL: 8
SAMPLES_AND_LINES: 5536 7560
HORIZONTAL_DATUM: NAD83
HORIZONTAL_COORDINATE_SYSTEM: UTM
COORDINATE_ZONE: 12
HORIZONTAL_UNITS: METERS
HORIZONTAL_RESOLUTION: 1.00000
SECONDARY_HORIZONTAL_DATUM: NAD27
XY_ORIGIN: 489904.00000 5066579.00000
SECONDARY_XY_ORIGIN: 489964.71200 5066368.91900
NATION: US
NATION: "SCIENCE
STATE: MT
NW_QUAD_CORNER_XY: 490277.46200 5066278.98400
NE_QUAD_CORNER_XY: 495138.73100 5066273.28700
SE_QUAD_CORNERY_XY: 495133.30800 5059329.45200
SW_QUAD_CORNER_XY: 490266.61700 5059335.14900
SECONDARY_NW_QUAD_XY: 490277.17100 5066061.18800
SECONDARY_NE_QUAD_XY: 495138.58500 5066055.49000
SECONDARY_SE_QUAD_XY: 495133.16300 5059111.70100
SECONDARY_SW_QUAD_XY: 490266.32500 5059117.39900
RMSE_XY: 1.00000
IMAGE_SOURCE: BLACK AND WHITE FILM
SOURCE_IMAGE_ID: NAPP 8376 070
SOURCE_IMAGE_DATE: 1995 08 15
SOURCE_DEM_DATE: 1987 00 00
AGENCY: WESTERN MAPPING CENTER (WMC)
PRODUCER: UNDEFINED
PRODUCTION_SYSTEM: GIS/MAGIC
COMPRESSION: UNDEFINED
STANDARD_VERSION: 1996 12
METADATA_DATE: 1999 03 01
DATA_FILE_SIZE: 41857696
BYTE_COUNT: 5536
