FILENAME: O4511122.NES.981543.tif
QUADRANGLE_NAME: ANCENEY
QUADRANT: NE
WEST_LONGITUDE: -111 18 45.00000
EAST_LONGITUDE: -111 15 0.00000
NORTH_LATITUDE: 45 45 0.00000
SOUTH_LATITUDE: 45 41 15.00000
PRODUCTION_DATE: 1999 3 23
RASTER_ORDER: LEFT_RIGHT/TOP_BOTTOM
BAND_ORGANIZATION: SINGLE FILE
BAND_CONTENT: BLACK&WHITE
BAND_CONTENT: UNDEFINED
BAND_CONTENT: UNDEFINED
BITS_PER_PIXEL: 8
SAMPLES_AND_LINES: 5553 7571
HORIZONTAL_DATUM: NAD83
HORIZONTAL_COORDINATE_SYSTEM: UTM
COORDINATE_ZONE: 12
HORIZONTAL_UNITS: METERS
HORIZONTAL_RESOLUTION: 1.00000
SECONDARY_HORIZONTAL_DATUM: NAD27
XY_ORIGIN: 475303.00000 5066619.00000
SECONDARY_XY_ORIGIN: 475363.89400 5066408.89500
NATION: US
NATION: "SCIENCE
STATE: MT
NW_QUAD_CORNER_XY: 475693.65800 5066318.86800
NE_QUAD_CORNER_XY: 480554.92600 5066301.77500
SE_QUAD_CORNERY_XY: 480533.23500 5059357.94100
SW_QUAD_CORNER_XY: 475666.54400 5059375.03500
SECONDARY_NW_QUAD_XY: 475692.92900 5066101.07300
SECONDARY_NE_QUAD_XY: 480554.34200 5066083.97900
SECONDARY_SE_QUAD_XY: 480532.65100 5059140.19100
SECONDARY_SW_QUAD_XY: 475665.81500 5059157.28600
RMSE_XY: 1.20000
IMAGE_SOURCE: BLACK AND WHITE FILM
SOURCE_IMAGE_ID: NAPP 8376 027
SOURCE_IMAGE_DATE: 1995 08 15
SOURCE_IMAGE_ID: NAPP 8376 026
SOURCE_IMAGE_DATE: 1995 08 15
SOURCE_DEM_DATE: 1991 00 00
AGENCY: WESTERN MAPPING CENTER (WMC)
PRODUCER: UNDEFINED
PRODUCTION_SYSTEM: GIS/MAGIC
COMPRESSION: UNDEFINED
STANDARD_VERSION: 1996 12
METADATA_DATE: 1999 03 26
DATA_FILE_SIZE: 42047316
BYTE_COUNT: 5553
