FILENAME: O4511122.SWS.981546.tif
QUADRANGLE_NAME: ANCENEY
QUADRANT: SW
WEST_LONGITUDE: -111 22 30.00000
EAST_LONGITUDE: -111 18 45.00000
NORTH_LATITUDE: 45 41 15.00000
SOUTH_LATITUDE: 45 37 30.00000
PRODUCTION_DATE: 1999 3 23
RASTER_ORDER: LEFT_RIGHT/TOP_BOTTOM
BAND_ORGANIZATION: SINGLE FILE
BAND_CONTENT: BLACK&WHITE
BAND_CONTENT: UNDEFINED
BAND_CONTENT: UNDEFINED
BITS_PER_PIXEL: 8
SAMPLES_AND_LINES: 5564 7575
HORIZONTAL_DATUM: NAD83
HORIZONTAL_COORDINATE_SYSTEM: UTM
COORDINATE_ZONE: 12
HORIZONTAL_UNITS: METERS
HORIZONTAL_RESOLUTION: 1.00000
SECONDARY_HORIZONTAL_DATUM: NAD27
XY_ORIGIN: 470404.00000 5059696.00000
SECONDARY_XY_ORIGIN: 470465.02600 5059485.90000
NATION: US
NATION: "SCIENCE
STATE: MT
NW_QUAD_CORNER_XY: 470799.85400 5059395.92800
NE_QUAD_CORNER_XY: 475666.54400 5059375.03500
SE_QUAD_CORNERY_XY: 475639.45900 5052431.27800
SW_QUAD_CORNER_XY: 470767.35200 5052452.17200
SECONDARY_NW_QUAD_XY: 470798.98000 5059178.17900
SECONDARY_NE_QUAD_XY: 475665.81500 5059157.28600
SECONDARY_SE_QUAD_XY: 475638.73000 5052213.57600
SECONDARY_SW_QUAD_XY: 470766.47800 5052234.47000
RMSE_XY: 1.70000
IMAGE_SOURCE: BLACK AND WHITE FILM
SOURCE_IMAGE_ID: NAPP 8375 087
SOURCE_IMAGE_DATE: 1995 08 12
SOURCE_IMAGE_ID: NAPP 8375 086
SOURCE_IMAGE_DATE: 1995 08 12
SOURCE_IMAGE_ID: NAPP 8375 088
SOURCE_IMAGE_DATE: 1995 08 12
SOURCE_DEM_DATE: 1991 00 00
AGENCY: WESTERN MAPPING CENTER (WMC)
PRODUCER: UNDEFINED
PRODUCTION_SYSTEM: GIS/MAGIC
COMPRESSION: UNDEFINED
STANDARD_VERSION: 1996 12
METADATA_DATE: 1999 03 26
DATA_FILE_SIZE: 42152864
BYTE_COUNT: 5564
