FILENAME: O4511120.NWS.979889.tif
QUADRANGLE_NAME: NORRIS NE
QUADRANT: NW
WEST_LONGITUDE: -111 37 30.00000
EAST_LONGITUDE: -111 33 45.00000
NORTH_LATITUDE: 45 45 0.00000
SOUTH_LATITUDE: 45 41 15.00000
PRODUCTION_DATE: 1999 3 23
RASTER_ORDER: LEFT_RIGHT/TOP_BOTTOM
BAND_ORGANIZATION: SINGLE FILE
BAND_CONTENT: BLACK&WHITE
BAND_CONTENT: UNDEFINED
BAND_CONTENT: UNDEFINED
BITS_PER_PIXEL: 8
SAMPLES_AND_LINES: 5581 7591
HORIZONTAL_DATUM: NAD83
HORIZONTAL_COORDINATE_SYSTEM: UTM
COORDINATE_ZONE: 12
HORIZONTAL_UNITS: METERS
HORIZONTAL_RESOLUTION: 1.00000
SECONDARY_HORIZONTAL_DATUM: NAD27
XY_ORIGIN: 450969.00000 5066762.00000
SECONDARY_XY_ORIGIN: 451030.33900 5066551.67300
NATION: US
NATION: "SCIENCE
STATE: MT
NW_QUAD_CORNER_XY: 451387.33400 5066461.31200
NE_QUAD_CORNER_XY: 456248.59700 5066425.22600
SE_QUAD_CORNERY_XY: 456199.79000 5059481.39900
SW_QUAD_CORNER_XY: 451333.10500 5059517.48700
SECONDARY_NW_QUAD_XY: 451385.87600 5066243.52100
SECONDARY_NE_QUAD_XY: 456247.28400 5066207.43400
SECONDARY_SE_QUAD_XY: 456198.47800 5059263.65200
SECONDARY_SW_QUAD_XY: 451331.64600 5059299.74200
RMSE_XY: 2.00000
IMAGE_SOURCE: BLACK AND WHITE FILM
SOURCE_IMAGE_ID: NAPP 8371 120
SOURCE_IMAGE_DATE: 1995 06 30
SOURCE_IMAGE_ID: NAPP 8371 119
SOURCE_IMAGE_DATE: 1995 06 30
SOURCE_IMAGE_ID: NAPP 8371 121
SOURCE_IMAGE_DATE: 1995 06 30
SOURCE_DEM_DATE: 1987 00 00
AGENCY: WESTERN MAPPING CENTER (WMC)
PRODUCER: UNDEFINED
PRODUCTION_SYSTEM: GIS/MAGIC
COMPRESSION: UNDEFINED
STANDARD_VERSION: 1996 12
METADATA_DATE: 1999 03 26
DATA_FILE_SIZE: 42370952
BYTE_COUNT: 5581
