FILENAME: O4511119.NES.998265.tif
QUADRANGLE_NAME: WILLOW CREEK RESERVOIR
QUADRANT: NE
WEST_LONGITUDE: -111 41 15.00000
EAST_LONGITUDE: -111 37 30.00000
NORTH_LATITUDE: 45 45 0.00000
SOUTH_LATITUDE: 45 41 15.00000
PRODUCTION_DATE: 1999 4 7
RASTER_ORDER: LEFT_RIGHT/TOP_BOTTOM
BAND_ORGANIZATION: SINGLE FILE
BAND_CONTENT: BLACK&WHITE
BAND_CONTENT: UNDEFINED
BAND_CONTENT: UNDEFINED
BITS_PER_PIXEL: 8
SAMPLES_AND_LINES: 5584 7594
HORIZONTAL_DATUM: NAD83
HORIZONTAL_COORDINATE_SYSTEM: UTM
COORDINATE_ZONE: 12
HORIZONTAL_UNITS: METERS
HORIZONTAL_RESOLUTION: 1.00000
SECONDARY_HORIZONTAL_DATUM: NAD27
XY_ORIGIN: 446102.00000 5066802.00000
SECONDARY_XY_ORIGIN: 446163.42700 5066591.62300
NATION: US
STATE: MT
NW_QUAD_CORNER_XY: 446526.07300 5066501.19800
NE_QUAD_CORNER_XY: 451387.33400 5066461.31300
SE_QUAD_CORNERY_XY: 451333.10500 5059517.48700
SW_QUAD_CORNER_XY: 446466.42000 5059557.37400
SECONDARY_NW_QUAD_XY: 446524.46900 5066283.40800
SECONDARY_NE_QUAD_XY: 451385.87600 5066243.52200
SECONDARY_SE_QUAD_XY: 451331.64600 5059299.74200
SECONDARY_SW_QUAD_XY: 446464.81600 5059339.63000
RMSE_XY: 2.40000
IMAGE_SOURCE: BLACK AND WHITE FILM
SOURCE_IMAGE_ID: NAPP 8375 078
SOURCE_IMAGE_DATE: 1995 8 12
SOURCE_DEM_DATE: 1981 0 0
AGENCY: ROCKY MOUNTAIN MAPPING CENTER (RMMC)
PRODUCER: ROCKY MOUNTAIN MAPPING CENTER (RMMC)
PRODUCTION_SYSTEM: DV2.6.3 10/9OV2.4 5/95
COMPRESSION: UNDEFINED
STANDARD_VERSION: 1996 12
METADATA_DATE: 1999 4 7
DATA_FILE_SIZE: 42410480
BYTE_COUNT: 5584
