FILENAME: O4511117.NWS.998218.tif
QUADRANGLE_NAME: PONY
QUADRANT: NW
WEST_LONGITUDE: -112 0 0.00000
EAST_LONGITUDE: -111 56 15.00000
NORTH_LATITUDE: 45 45 0.00000
SOUTH_LATITUDE: 45 41 15.00000
PRODUCTION_DATE: 1999 4 8
RASTER_ORDER: LEFT_RIGHT/TOP_BOTTOM
BAND_ORGANIZATION: SINGLE FILE
BAND_CONTENT: BLACK&WHITE
BAND_CONTENT: UNDEFINED
BAND_CONTENT: UNDEFINED
BITS_PER_PIXEL: 8
SAMPLES_AND_LINES: 5612 7613
HORIZONTAL_DATUM: NAD83
HORIZONTAL_COORDINATE_SYSTEM: UTM
COORDINATE_ZONE: 12
HORIZONTAL_UNITS: METERS
HORIZONTAL_RESOLUTION: 1.00000
SECONDARY_HORIZONTAL_DATUM: NAD27
XY_ORIGIN: 421768.00000 5067059.00000
SECONDARY_XY_ORIGIN: 421829.65800 5066848.58300
NATION: US
STATE: MT
NW_QUAD_CORNER_XY: 422219.79400 5066757.61000
NE_QUAD_CORNER_XY: 427081.04600 5066698.72900
SE_QUAD_CORNERY_XY: 426999.69800 5059754.91500
SW_QUAD_CORNER_XY: 422133.02100 5059813.79900
SECONDARY_NW_QUAD_XY: 422217.46100 5066539.82800
SECONDARY_NE_QUAD_XY: 427078.85800 5066480.94500
SECONDARY_SE_QUAD_XY: 426997.51000 5059537.17800
SECONDARY_SW_QUAD_XY: 422130.68800 5059596.06300
RMSE_XY: 2.60000
IMAGE_SOURCE: BLACK AND WHITE FILM
SOURCE_IMAGE_ID: NAPP 8376 172
SOURCE_IMAGE_DATE: 1995 8 15
SOURCE_DEM_DATE: 1981 0 0
AGENCY: ROCKY MOUNTAIN MAPPING CENTER (RMMC)
PRODUCER: ROCKY MOUNTAIN MAPPING CENTER (RMMC)
PRODUCTION_SYSTEM: DV2.6.3 10/9OV2.4 5/95
COMPRESSION: UNDEFINED
STANDARD_VERSION: 1996 12
METADATA_DATE: 1999 4 8
DATA_FILE_SIZE: 42729768
BYTE_COUNT: 5612
