FILENAME: O4511116.SES.971430.tif
QUADRANGLE_NAME: MISER CREEK
QUADRANT: SE
WEST_LONGITUDE: -111 3 45.00000
EAST_LONGITUDE: -111 0 0.00000
NORTH_LATITUDE: 45 48 45.00000
SOUTH_LATITUDE: 45 45 0.00000
PRODUCTION_DATE: 1999 2 26
RASTER_ORDER: LEFT_RIGHT/TOP_BOTTOM
BAND_ORGANIZATION: SINGLE FILE
BAND_CONTENT: BLACK&WHITE
BAND_CONTENT: UNDEFINED
BAND_CONTENT: UNDEFINED
BITS_PER_PIXEL: 8
SAMPLES_AND_LINES: 5525 7557
HORIZONTAL_DATUM: NAD83
HORIZONTAL_COORDINATE_SYSTEM: UTM
COORDINATE_ZONE: 12
HORIZONTAL_UNITS: METERS
HORIZONTAL_RESOLUTION: 1.00000
SECONDARY_HORIZONTAL_DATUM: NAD27
XY_ORIGIN: 494776.00000 5073518.00000
SECONDARY_XY_ORIGIN: 494836.60500 5073307.90800
NATION: US
NATION: "SCIENCE
STATE: MT
NW_QUAD_CORNER_XY: 495144.16000 5073217.19800
NE_QUAD_CORNER_XY: 500000.00000 5073215.29900
SE_QUAD_CORNERY_XY: 500000.00000 5066271.38800
SW_QUAD_CORNER_XY: 495138.73100 5066273.28700
SECONDARY_NW_QUAD_XY: 495144.01400 5072999.35700
SECONDARY_NE_QUAD_XY: 500000.00000 5072997.45800
SECONDARY_SE_QUAD_XY: 500000.00000 5066053.59100
SECONDARY_SW_QUAD_XY: 495138.58500 5066055.49000
RMSE_XY: 2.10000
IMAGE_SOURCE: BLACK AND WHITE FILM
SOURCE_IMAGE_ID: NAPP 8376 087
SOURCE_IMAGE_DATE: 1995 08 15
SOURCE_DEM_DATE: 1997 00 00
AGENCY: WESTERN MAPPING CENTER (WMC)
PRODUCER: UNDEFINED
PRODUCTION_SYSTEM: GIS/MAGIC
COMPRESSION: UNDEFINED
STANDARD_VERSION: 1996 12
METADATA_DATE: 1999 03 01
DATA_FILE_SIZE: 41757950
BYTE_COUNT: 5525
