FILENAME: O4511113.NWS.980883.tif
QUADRANGLE_NAME: MANHATTAN SW
QUADRANT: NW
WEST_LONGITUDE: -111 30 0.00000
EAST_LONGITUDE: -111 26 15.00000
NORTH_LATITUDE: 45 52 30.00000
SOUTH_LATITUDE: 45 48 45.00000
PRODUCTION_DATE: 1999 3 23
RASTER_ORDER: LEFT_RIGHT/TOP_BOTTOM
BAND_ORGANIZATION: SINGLE FILE
BAND_CONTENT: BLACK&WHITE
BAND_CONTENT: UNDEFINED
BAND_CONTENT: UNDEFINED
BITS_PER_PIXEL: 8
SAMPLES_AND_LINES: 5559 7583
HORIZONTAL_DATUM: NAD83
HORIZONTAL_COORDINATE_SYSTEM: UTM
COORDINATE_ZONE: 12
HORIZONTAL_UNITS: METERS
HORIZONTAL_RESOLUTION: 1.00000
SECONDARY_HORIZONTAL_DATUM: NAD27
XY_ORIGIN: 460790.00000 5080581.00000
SECONDARY_XY_ORIGIN: 460851.05900 5080370.70100
NATION: US
NATION: "SCIENCE
STATE: MT
NW_QUAD_CORNER_XY: 461196.76700 5080280.82400
NE_QUAD_CORNER_XY: 466047.16800 5080252.33800
SE_QUAD_CORNERY_XY: 466009.12700 5073308.35600
SW_QUAD_CORNER_XY: 461153.29100 5073336.84300
SECONDARY_NW_QUAD_XY: 461195.60000 5080062.94200
SECONDARY_NE_QUAD_XY: 466046.14700 5080034.45600
SECONDARY_SE_QUAD_XY: 466008.10500 5073090.51700
SECONDARY_SW_QUAD_XY: 461152.12400 5073119.00500
RMSE_XY: 1.70000
IMAGE_SOURCE: BLACK AND WHITE FILM
SOURCE_IMAGE_ID: NAPP 8371 103
SOURCE_IMAGE_DATE: 1995 06 30
SOURCE_IMAGE_ID: NAPP 8371 102
SOURCE_IMAGE_DATE: 1995 06 30
SOURCE_DEM_DATE: 1991 00 00
AGENCY: WESTERN MAPPING CENTER (WMC)
PRODUCER: UNDEFINED
PRODUCTION_SYSTEM: GIS/MAGIC
COMPRESSION: UNDEFINED
STANDARD_VERSION: 1996 12
METADATA_DATE: 1999 03 26
DATA_FILE_SIZE: 42159456
BYTE_COUNT: 5559
