FILENAME: O4511113.SES.980889.tif
QUADRANGLE_NAME: MANHATTAN SW
QUADRANT: SE
WEST_LONGITUDE: -111 26 15.00000
EAST_LONGITUDE: -111 22 30.00000
NORTH_LATITUDE: 45 48 45.00000
SOUTH_LATITUDE: 45 45 0.00000
PRODUCTION_DATE: 1999 3 23
RASTER_ORDER: LEFT_RIGHT/TOP_BOTTOM
BAND_ORGANIZATION: SINGLE FILE
BAND_CONTENT: BLACK&WHITE
BAND_CONTENT: UNDEFINED
BAND_CONTENT: UNDEFINED
BITS_PER_PIXEL: 8
SAMPLES_AND_LINES: 5558 7579
HORIZONTAL_DATUM: NAD83
HORIZONTAL_COORDINATE_SYSTEM: UTM
COORDINATE_ZONE: 12
HORIZONTAL_UNITS: METERS
HORIZONTAL_RESOLUTION: 1.00000
SECONDARY_HORIZONTAL_DATUM: NAD27
XY_ORIGIN: 465608.00000 5073609.00000
SECONDARY_XY_ORIGIN: 465669.02400 5073398.77800
NATION: US
NATION: "SCIENCE
STATE: MT
NW_QUAD_CORNER_XY: 466009.12700 5073308.35600
NE_QUAD_CORNER_XY: 470864.96400 5073283.66700
SE_QUAD_CORNERY_XY: 470832.39200 5066339.76000
SW_QUAD_CORNER_XY: 465971.12600 5066364.45000
SECONDARY_NW_QUAD_XY: 466008.10500 5073090.51700
SECONDARY_NE_QUAD_XY: 470864.08800 5073065.82800
SECONDARY_SE_QUAD_XY: 470831.51600 5066121.96500
SECONDARY_SW_QUAD_XY: 465970.10500 5066146.65600
RMSE_XY: 0.90000
IMAGE_SOURCE: BLACK AND WHITE FILM
SOURCE_IMAGE_ID: NAPP 8371 090
SOURCE_IMAGE_DATE: 1995 06 30
SOURCE_IMAGE_ID: NAPP 8371 089
SOURCE_IMAGE_DATE: 1995 06 30
SOURCE_IMAGE_ID: NAPP 8371 091
SOURCE_IMAGE_DATE: 1995 06 30
SOURCE_DEM_DATE: 1991 00 00
AGENCY: WESTERN MAPPING CENTER (WMC)
PRODUCER: UNDEFINED
PRODUCTION_SYSTEM: GIS/MAGIC
COMPRESSION: UNDEFINED
STANDARD_VERSION: 1996 12
METADATA_DATE: 1999 03 26
DATA_FILE_SIZE: 42129640
BYTE_COUNT: 5558
