FILENAME: O4511113.SWS.980894.tif
QUADRANGLE_NAME: MANHATTAN SW
QUADRANT: SW
WEST_LONGITUDE: -111 30 0.00000
EAST_LONGITUDE: -111 26 15.00000
NORTH_LATITUDE: 45 48 45.00000
SOUTH_LATITUDE: 45 45 0.00000
PRODUCTION_DATE: 1999 3 23
RASTER_ORDER: LEFT_RIGHT/TOP_BOTTOM
BAND_ORGANIZATION: SINGLE FILE
BAND_CONTENT: BLACK&WHITE
BAND_CONTENT: UNDEFINED
BAND_CONTENT: UNDEFINED
BITS_PER_PIXEL: 8
SAMPLES_AND_LINES: 5565 7583
HORIZONTAL_DATUM: NAD83
HORIZONTAL_COORDINATE_SYSTEM: UTM
COORDINATE_ZONE: 12
HORIZONTAL_UNITS: METERS
HORIZONTAL_RESOLUTION: 1.00000
SECONDARY_HORIZONTAL_DATUM: NAD27
XY_ORIGIN: 460746.00000 5073637.00000
SECONDARY_XY_ORIGIN: 460807.11200 5073426.73600
NATION: US
NATION: "SCIENCE
STATE: MT
NW_QUAD_CORNER_XY: 461153.29100 5073336.84300
NE_QUAD_CORNER_XY: 466009.12700 5073308.35600
SE_QUAD_CORNERY_XY: 465971.12600 5066364.45000
SW_QUAD_CORNER_XY: 461109.86100 5066392.93900
SECONDARY_NW_QUAD_XY: 461152.12400 5073119.00500
SECONDARY_NE_QUAD_XY: 466008.10500 5073090.51700
SECONDARY_SE_QUAD_XY: 465970.10500 5066146.65600
SECONDARY_SW_QUAD_XY: 461108.69400 5066175.14600
RMSE_XY: 1.70000
IMAGE_SOURCE: BLACK AND WHITE FILM
SOURCE_IMAGE_ID: NAPP 8371 105
SOURCE_IMAGE_DATE: 1995 06 30
SOURCE_IMAGE_ID: NAPP 8371 106
SOURCE_IMAGE_DATE: 1995 06 30
SOURCE_IMAGE_ID: NAPP 8371 089
SOURCE_IMAGE_DATE: 1995 06 30
SOURCE_DEM_DATE: 1991 00 00
AGENCY: WESTERN MAPPING CENTER (WMC)
PRODUCER: UNDEFINED
PRODUCTION_SYSTEM: GIS/MAGIC
COMPRESSION: UNDEFINED
STANDARD_VERSION: 1996 12
METADATA_DATE: 1999 03 26
DATA_FILE_SIZE: 42204960
BYTE_COUNT: 5565
