FILENAME: O4511111.NES.998208.tif
QUADRANGLE_NAME: WILLOW CREEK
QUADRANT: NE
WEST_LONGITUDE: -111 41 15.00000
EAST_LONGITUDE: -111 37 30.00000
NORTH_LATITUDE: 45 52 30.00000
SOUTH_LATITUDE: 45 48 45.00000
PRODUCTION_DATE: 1999 4 8
RASTER_ORDER: LEFT_RIGHT/TOP_BOTTOM
BAND_ORGANIZATION: SINGLE FILE
BAND_CONTENT: BLACK&WHITE
BAND_CONTENT: UNDEFINED
BAND_CONTENT: UNDEFINED
BITS_PER_PIXEL: 8
SAMPLES_AND_LINES: 5576 7594
HORIZONTAL_DATUM: NAD83
HORIZONTAL_COORDINATE_SYSTEM: UTM
COORDINATE_ZONE: 12
HORIZONTAL_UNITS: METERS
HORIZONTAL_RESOLUTION: 1.00000
SECONDARY_HORIZONTAL_DATUM: NAD27
XY_ORIGIN: 446222.00000 5080690.00000
SECONDARY_XY_ORIGIN: 446283.31700 5080479.56700
NATION: US
STATE: MT
NW_QUAD_CORNER_XY: 446645.57200 5080389.07100
NE_QUAD_CORNER_XY: 451495.96900 5080349.19000
SE_QUAD_CORNERY_XY: 451441.62300 5073405.21400
SW_QUAD_CORNER_XY: 446585.79100 5073445.09700
SECONDARY_NW_QUAD_XY: 446643.96700 5080171.19200
SECONDARY_NE_QUAD_XY: 451494.51000 5080131.31000
SECONDARY_SE_QUAD_XY: 451440.16400 5073187.37800
SECONDARY_SW_QUAD_XY: 446584.18600 5073227.26200
RMSE_XY: 2.80000
IMAGE_SOURCE: BLACK AND WHITE FILM
SOURCE_IMAGE_ID: NAPP 8371 135
SOURCE_IMAGE_DATE: 1995 6 30
SOURCE_DEM_DATE: 1981 0 0
AGENCY: ROCKY MOUNTAIN MAPPING CENTER (RMMC)
PRODUCER: ROCKY MOUNTAIN MAPPING CENTER (RMMC)
PRODUCTION_SYSTEM: DV2.6.3 10/9OV2.4 5/95
COMPRESSION: UNDEFINED
STANDARD_VERSION: 1996 12
METADATA_DATE: 1999 4 8
DATA_FILE_SIZE: 42349720
BYTE_COUNT: 5576
