FILENAME: O4511110.NES.998239.tif
QUADRANGLE_NAME: SAPPINGTON
QUADRANT: NE
WEST_LONGITUDE: -111 48 45.00000
EAST_LONGITUDE: -111 45 0.00000
NORTH_LATITUDE: 45 52 30.00000
SOUTH_LATITUDE: 45 48 45.00000
PRODUCTION_DATE: 1999 4 9
RASTER_ORDER: LEFT_RIGHT/TOP_BOTTOM
BAND_ORGANIZATION: SINGLE FILE
BAND_CONTENT: BLACK&WHITE
BAND_CONTENT: UNDEFINED
BAND_CONTENT: UNDEFINED
BITS_PER_PIXEL: 8
SAMPLES_AND_LINES: 5584 7602
HORIZONTAL_DATUM: NAD83
HORIZONTAL_COORDINATE_SYSTEM: UTM
COORDINATE_ZONE: 12
HORIZONTAL_UNITS: METERS
HORIZONTAL_RESOLUTION: 1.00000
SECONDARY_HORIZONTAL_DATUM: NAD27
XY_ORIGIN: 436510.00000 5080781.00000
SECONDARY_XY_ORIGIN: 436571.45900 5080570.51600
NATION: US
STATE: MT
NW_QUAD_CORNER_XY: 436944.78500 5080480.22700
NE_QUAD_CORNER_XY: 441795.17700 5080432.75000
SE_QUAD_CORNERY_XY: 441729.96100 5073488.77800
SW_QUAD_CORNER_XY: 436874.13200 5073536.25900
SECONDARY_NW_QUAD_XY: 436942.88800 5080262.35100
SECONDARY_NE_QUAD_XY: 441793.42600 5080214.87200
SECONDARY_SE_QUAD_XY: 441728.21000 5073270.94500
SECONDARY_SW_QUAD_XY: 436872.23600 5073318.42700
RMSE_XY: 2.60000
IMAGE_SOURCE: BLACK AND WHITE FILM
SOURCE_IMAGE_ID: NAPP 8375 075
SOURCE_IMAGE_DATE: 1995 8 12
SOURCE_DEM_DATE: 1981 0 0
AGENCY: ROCKY MOUNTAIN MAPPING CENTER (RMMC)
PRODUCER: ROCKY MOUNTAIN MAPPING CENTER (RMMC)
PRODUCTION_SYSTEM: DV2.6.3 10/9OV2.4 5/95
COMPRESSION: UNDEFINED
STANDARD_VERSION: 1996 12
METADATA_DATE: 1999 4 9
DATA_FILE_SIZE: 42455152
BYTE_COUNT: 5584
