FILENAME: O4511110.NWS.998240.tif
QUADRANGLE_NAME: SAPPINGTON
QUADRANT: NW
WEST_LONGITUDE: -111 52 30.00000
EAST_LONGITUDE: -111 48 45.00000
NORTH_LATITUDE: 45 52 30.00000
SOUTH_LATITUDE: 45 48 45.00000
PRODUCTION_DATE: 1999 4 9
RASTER_ORDER: LEFT_RIGHT/TOP_BOTTOM
BAND_ORGANIZATION: SINGLE FILE
BAND_CONTENT: BLACK&WHITE
BAND_CONTENT: UNDEFINED
BAND_CONTENT: UNDEFINED
BITS_PER_PIXEL: 8
SAMPLES_AND_LINES: 5592 7606
HORIZONTAL_DATUM: NAD83
HORIZONTAL_COORDINATE_SYSTEM: UTM
COORDINATE_ZONE: 12
HORIZONTAL_UNITS: METERS
HORIZONTAL_RESOLUTION: 1.00000
SECONDARY_HORIZONTAL_DATUM: NAD27
XY_ORIGIN: 431654.00000 5080833.00000
SECONDARY_XY_ORIGIN: 431715.51700 5080622.50600
NATION: US
STATE: MT
NW_QUAD_CORNER_XY: 432094.39400 5080531.50300
NE_QUAD_CORNER_XY: 436944.78500 5080480.22700
SE_QUAD_CORNERY_XY: 436874.13200 5073536.25900
SW_QUAD_CORNER_XY: 432018.30600 5073587.53800
SECONDARY_NW_QUAD_XY: 432092.35100 5080313.62900
SECONDARY_NE_QUAD_XY: 436942.88800 5080262.35100
SECONDARY_SE_QUAD_XY: 436872.23600 5073318.42700
SECONDARY_SW_QUAD_XY: 432016.26400 5073369.70800
RMSE_XY: 2.00000
IMAGE_SOURCE: BLACK AND WHITE FILM
SOURCE_IMAGE_ID: NAPP 8375 043
SOURCE_IMAGE_DATE: 1995 8 12
SOURCE_DEM_DATE: 1981 0 0
AGENCY: ROCKY MOUNTAIN MAPPING CENTER (RMMC)
PRODUCER: ROCKY MOUNTAIN MAPPING CENTER (RMMC)
PRODUCTION_SYSTEM: DV2.6.3 10/9OV2.4 5/95
COMPRESSION: UNDEFINED
STANDARD_VERSION: 1996 12
METADATA_DATE: 1999 4 9
DATA_FILE_SIZE: 42538344
BYTE_COUNT: 5592
