FILENAME: O4511109.NWS.998236.tif
QUADRANGLE_NAME: JEFFERSON ISLAND
QUADRANT: NW
WEST_LONGITUDE: -112 0 0.00000
EAST_LONGITUDE: -111 56 15.00000
NORTH_LATITUDE: 45 52 30.00000
SOUTH_LATITUDE: 45 48 45.00000
PRODUCTION_DATE: 1999 4 9
RASTER_ORDER: LEFT_RIGHT/TOP_BOTTOM
BAND_ORGANIZATION: SINGLE FILE
BAND_CONTENT: BLACK&WHITE
BAND_CONTENT: UNDEFINED
BAND_CONTENT: UNDEFINED
BITS_PER_PIXEL: 8
SAMPLES_AND_LINES: 5604 7613
HORIZONTAL_DATUM: NAD83
HORIZONTAL_COORDINATE_SYSTEM: UTM
COORDINATE_ZONE: 12
HORIZONTAL_UNITS: METERS
HORIZONTAL_RESOLUTION: 1.00000
SECONDARY_HORIZONTAL_DATUM: NAD27
XY_ORIGIN: 421942.00000 5080946.00000
SECONDARY_XY_ORIGIN: 422003.63700 5080735.48400
NATION: US
STATE: MT
NW_QUAD_CORNER_XY: 422393.62000 5080645.45300
NE_QUAD_CORNER_XY: 427244.00600 5080586.57800
SE_QUAD_CORNERY_XY: 427162.48200 5073642.61700
SW_QUAD_CORNER_XY: 422306.66100 5073701.49400
SECONDARY_NW_QUAD_XY: 422391.28500 5080427.58200
SECONDARY_NE_QUAD_XY: 427241.81700 5080368.70600
SECONDARY_SE_QUAD_XY: 427160.29400 5073424.78800
SECONDARY_SW_QUAD_XY: 422304.32600 5073483.66700
RMSE_XY: 2.00000
IMAGE_SOURCE: BLACK AND WHITE FILM
SOURCE_IMAGE_ID: NAPP 8375 032
SOURCE_IMAGE_DATE: 1995 8 12
SOURCE_DEM_DATE: 1981 0 0
AGENCY: ROCKY MOUNTAIN MAPPING CENTER (RMMC)
PRODUCER: ROCKY MOUNTAIN MAPPING CENTER (RMMC)
PRODUCTION_SYSTEM: DV2.6.3 10/9OV2.4 5/95
COMPRESSION: UNDEFINED
STANDARD_VERSION: 1996 12
METADATA_DATE: 1999 4 9
DATA_FILE_SIZE: 42668856
BYTE_COUNT: 5604
