FILENAME: O4511108.NES.998280.tif
QUADRANGLE_NAME: FLATHEAD PASS
QUADRANT: NE
WEST_LONGITUDE: -111 3 45.00000
EAST_LONGITUDE: -111 0 0.00000
NORTH_LATITUDE: 46 0 0.00000
SOUTH_LATITUDE: 45 56 15.00000
PRODUCTION_DATE: 1999 4 23
RASTER_ORDER: LEFT_RIGHT/TOP_BOTTOM
BAND_ORGANIZATION: SINGLE FILE
BAND_CONTENT: BLACK&WHITE
BAND_CONTENT: UNDEFINED
BAND_CONTENT: UNDEFINED
BITS_PER_PIXEL: 8
SAMPLES_AND_LINES: 5508 7556
HORIZONTAL_DATUM: NAD83
HORIZONTAL_COORDINATE_SYSTEM: UTM
COORDINATE_ZONE: 12
HORIZONTAL_UNITS: METERS
HORIZONTAL_RESOLUTION: 1.00000
SECONDARY_HORIZONTAL_DATUM: NAD27
XY_ORIGIN: 494793.00000 5094350.00000
SECONDARY_XY_ORIGIN: 494853.42400 5094139.88700
NATION: US
STATE: MT
NW_QUAD_CORNER_XY: 495160.48000 5094049.39100
NE_QUAD_CORNER_XY: 500000.00000 5094047.49200
SE_QUAD_CORNERY_XY: 500000.00000 5087103.35200
SW_QUAD_CORNER_XY: 495155.03400 5087105.25100
SECONDARY_NW_QUAD_XY: 495160.33400 5093831.42000
SECONDARY_NE_QUAD_XY: 500000.00000 5093829.52100
SECONDARY_SE_QUAD_XY: 500000.00000 5086885.42300
SECONDARY_SW_QUAD_XY: 495154.88800 5086887.32200
RMSE_XY: 3.20000
IMAGE_SOURCE: BLACK AND WHITE FILM
SOURCE_IMAGE_ID: NAPP 8376 081
SOURCE_IMAGE_DATE: 1995 8 15
SOURCE_DEM_DATE: 1981 0 0
AGENCY: ROCKY MOUNTAIN MAPPING CENTER (RMMC)
PRODUCER: ROCKY MOUNTAIN MAPPING CENTER (RMMC)
PRODUCTION_SYSTEM: DV2.6.3 10/9OV2.4 5/95
COMPRESSION: UNDEFINED
STANDARD_VERSION: 1996 12
METADATA_DATE: 1999 4 23
DATA_FILE_SIZE: 41623956
BYTE_COUNT: 5508
