FILENAME: O4511105.SES.998259.tif
QUADRANGLE_NAME: LOGAN
QUADRANT: SE
WEST_LONGITUDE: -111 26 15.00000
EAST_LONGITUDE: -111 22 30.00000
NORTH_LATITUDE: 45 56 15.00000
SOUTH_LATITUDE: 45 52 30.00000
PRODUCTION_DATE: 1999 4 20
RASTER_ORDER: LEFT_RIGHT/TOP_BOTTOM
BAND_ORGANIZATION: SINGLE FILE
BAND_CONTENT: BLACK&WHITE
BAND_CONTENT: UNDEFINED
BAND_CONTENT: UNDEFINED
BITS_PER_PIXEL: 8
SAMPLES_AND_LINES: 5548 7579
HORIZONTAL_DATUM: NAD83
HORIZONTAL_COORDINATE_SYSTEM: UTM
COORDINATE_ZONE: 12
HORIZONTAL_UNITS: METERS
HORIZONTAL_RESOLUTION: 1.00000
SECONDARY_HORIZONTAL_DATUM: NAD27
XY_ORIGIN: 465684.00000 5087497.00000
SECONDARY_XY_ORIGIN: 465744.92200 5087286.71000
NATION: US
STATE: MT
NW_QUAD_CORNER_XY: 466085.25100 5087196.39700
NE_QUAD_CORNER_XY: 470930.21200 5087171.71100
SE_QUAD_CORNERY_XY: 470897.57100 5080227.65200
SW_QUAD_CORNER_XY: 466047.16800 5080252.33900
SECONDARY_NW_QUAD_XY: 466084.22900 5086978.47100
SECONDARY_NE_QUAD_XY: 470929.33700 5086953.78400
SECONDARY_SE_QUAD_XY: 470896.69500 5080009.76800
SECONDARY_SW_QUAD_XY: 466046.14700 5080034.45600
RMSE_XY: 3.20000
IMAGE_SOURCE: BLACK AND WHITE FILM
SOURCE_IMAGE_ID: NAPP 8371 094
SOURCE_IMAGE_DATE: 1995 6 30
SOURCE_DEM_DATE: 1981 0 0
AGENCY: ROCKY MOUNTAIN MAPPING CENTER (RMMC)
PRODUCER: ROCKY MOUNTAIN MAPPING CENTER (RMMC)
PRODUCTION_SYSTEM: DV2.6.3 10/9OV2.4 5/95
COMPRESSION: UNDEFINED
STANDARD_VERSION: 1996 12
METADATA_DATE: 1999 4 20
DATA_FILE_SIZE: 42053840
BYTE_COUNT: 5548
