FILENAME: O4511104.NES.998230.tif
QUADRANGLE_NAME: THREE FORKS
QUADRANT: NE
WEST_LONGITUDE: -111 33 45.00000
EAST_LONGITUDE: -111 30 0.00000
NORTH_LATITUDE: 46 0 0.00000
SOUTH_LATITUDE: 45 56 15.00000
PRODUCTION_DATE: 1999 4 9
RASTER_ORDER: LEFT_RIGHT/TOP_BOTTOM
BAND_ORGANIZATION: SINGLE FILE
BAND_CONTENT: BLACK&WHITE
BAND_CONTENT: UNDEFINED
BAND_CONTENT: UNDEFINED
BITS_PER_PIXEL: 8
SAMPLES_AND_LINES: 5552 7587
HORIZONTAL_DATUM: NAD83
HORIZONTAL_COORDINATE_SYSTEM: UTM
COORDINATE_ZONE: 12
HORIZONTAL_UNITS: METERS
HORIZONTAL_RESOLUTION: 1.00000
SECONDARY_HORIZONTAL_DATUM: NAD27
XY_ORIGIN: 456032.00000 5094502.00000
SECONDARY_XY_ORIGIN: 456093.03600 5094291.59100
NATION: US
STATE: MT
NW_QUAD_CORNER_XY: 456444.34700 5094201.29200
NE_QUAD_CORNER_XY: 461283.85900 5094169.01200
SE_QUAD_CORNERY_XY: 461240.29000 5087224.88100
SW_QUAD_CORNER_XY: 456395.33100 5087257.16200
SECONDARY_NW_QUAD_XY: 456443.03300 5093983.32500
SECONDARY_NE_QUAD_XY: 461282.69200 5093951.04500
SECONDARY_SE_QUAD_XY: 461239.12200 5087006.95500
SECONDARY_SW_QUAD_XY: 456394.01700 5087039.23800
RMSE_XY: 2.30000
IMAGE_SOURCE: BLACK AND WHITE FILM
SOURCE_IMAGE_ID: NAPP 8371 065
SOURCE_IMAGE_DATE: 1995 6 30
SOURCE_DEM_DATE: 1981 0 0
AGENCY: ROCKY MOUNTAIN MAPPING CENTER (RMMC)
PRODUCER: ROCKY MOUNTAIN MAPPING CENTER (RMMC)
PRODUCTION_SYSTEM: DV2.6.3 10/9OV2.4 5/95
COMPRESSION: UNDEFINED
STANDARD_VERSION: 1996 12
METADATA_DATE: 1999 4 12
DATA_FILE_SIZE: 42128576
BYTE_COUNT: 5552
