FILENAME: O4511104.NWS.998231.tif
QUADRANGLE_NAME: THREE FORKS
QUADRANT: NW
WEST_LONGITUDE: -111 37 30.00000
EAST_LONGITUDE: -111 33 45.00000
NORTH_LATITUDE: 46 0 0.00000
SOUTH_LATITUDE: 45 56 15.00000
PRODUCTION_DATE: 1999 4 9
RASTER_ORDER: LEFT_RIGHT/TOP_BOTTOM
BAND_ORGANIZATION: SINGLE FILE
BAND_CONTENT: BLACK&WHITE
BAND_CONTENT: UNDEFINED
BAND_CONTENT: UNDEFINED
BITS_PER_PIXEL: 8
SAMPLES_AND_LINES: 5556 7590
HORIZONTAL_DATUM: NAD83
HORIZONTAL_COORDINATE_SYSTEM: UTM
COORDINATE_ZONE: 12
HORIZONTAL_UNITS: METERS
HORIZONTAL_RESOLUTION: 1.00000
SECONDARY_HORIZONTAL_DATUM: NAD27
XY_ORIGIN: 451187.00000 5094538.00000
SECONDARY_XY_ORIGIN: 451248.12100 5094327.55200
NATION: US
STATE: MT
NW_QUAD_CORNER_XY: 451604.83600 5094237.36900
NE_QUAD_CORNER_XY: 456444.34700 5094201.29200
SE_QUAD_CORNERY_XY: 456395.33100 5087257.16200
SW_QUAD_CORNER_XY: 451550.37300 5087293.24200
SECONDARY_NW_QUAD_XY: 451603.37600 5094019.40300
SECONDARY_NE_QUAD_XY: 456443.03300 5093983.32500
SECONDARY_SE_QUAD_XY: 456394.01700 5087039.23800
SECONDARY_SW_QUAD_XY: 451548.91400 5087075.31900
RMSE_XY: 1.70000
IMAGE_SOURCE: BLACK AND WHITE FILM
SOURCE_IMAGE_ID: NAPP 8371 128
SOURCE_IMAGE_DATE: 1995 6 30
SOURCE_DEM_DATE: 1981 0 0
AGENCY: ROCKY MOUNTAIN MAPPING CENTER (RMMC)
PRODUCER: ROCKY MOUNTAIN MAPPING CENTER (RMMC)
PRODUCTION_SYSTEM: DV2.6.3 10/9OV2.4 5/95
COMPRESSION: UNDEFINED
STANDARD_VERSION: 1996 12
METADATA_DATE: 1999 4 12
DATA_FILE_SIZE: 42175596
BYTE_COUNT: 5556
