FILENAME: O4511102.NES.998181.tif
QUADRANGLE_NAME: NEGRO HOLLOW
QUADRANT: NE
WEST_LONGITUDE: -111 48 45.00000
EAST_LONGITUDE: -111 45 0.00000
NORTH_LATITUDE: 46 0 0.00000
SOUTH_LATITUDE: 45 56 15.00000
PRODUCTION_DATE: 1999 4 13
RASTER_ORDER: LEFT_RIGHT/TOP_BOTTOM
BAND_ORGANIZATION: SINGLE FILE
BAND_CONTENT: BLACK&WHITE
BAND_CONTENT: UNDEFINED
BAND_CONTENT: UNDEFINED
BITS_PER_PIXEL: 8
SAMPLES_AND_LINES: 5576 7602
HORIZONTAL_DATUM: NAD83
HORIZONTAL_COORDINATE_SYSTEM: UTM
COORDINATE_ZONE: 12
HORIZONTAL_UNITS: METERS
HORIZONTAL_RESOLUTION: 1.00000
SECONDARY_HORIZONTAL_DATUM: NAD27
XY_ORIGIN: 436651.00000 5094669.00000
SECONDARY_XY_ORIGIN: 436712.37000 5094458.45300
NATION: US
STATE: MT
NW_QUAD_CORNER_XY: 437086.31500 5094368.38800
NE_QUAD_CORNER_XY: 441925.82000 5094320.91700
SE_QUAD_CORNERY_XY: 441860.46400 5087376.79600
SW_QUAD_CORNER_XY: 437015.51200 5087424.27000
SECONDARY_NW_QUAD_XY: 437084.41800 5094150.42700
SECONDARY_NE_QUAD_XY: 441924.06800 5094102.95400
SECONDARY_SE_QUAD_XY: 441858.71200 5087158.87500
SECONDARY_SW_QUAD_XY: 437013.61500 5087206.35100
RMSE_XY: 2.10000
IMAGE_SOURCE: BLACK AND WHITE FILM
SOURCE_IMAGE_ID: NAPP 8371 007
SOURCE_IMAGE_DATE: 1995 6 30
SOURCE_DEM_DATE: 1981 0 0
AGENCY: ROCKY MOUNTAIN MAPPING CENTER (RMMC)
PRODUCER: ROCKY MOUNTAIN MAPPING CENTER (RMMC)
PRODUCTION_SYSTEM: DV2.6.3 10/9OV2.4 5/95
COMPRESSION: UNDEFINED
STANDARD_VERSION: 1996 12
METADATA_DATE: 1999 4 13
DATA_FILE_SIZE: 42394328
BYTE_COUNT: 5576
