FILENAME: O4511264.NWS.789346.tif
QUADRANGLE_NAME: HOME PARK RANCH
QUADRANT: NW
WEST_LONGITUDE: -112 7 30.00000
EAST_LONGITUDE: -112 3 45.00000
NORTH_LATITUDE: 45 7 30.00000
SOUTH_LATITUDE: 45 3 45.00000
PRODUCTION_DATE: 1997 11 20
RASTER_ORDER: LEFT_RIGHT/TOP_BOTTOM
BAND_ORGANIZATION: SINGLE FILE
BAND_CONTENT: BLACK&WHITE
BAND_CONTENT: UNDEFINED
BAND_CONTENT: UNDEFINED
BITS_PER_PIXEL: 8
SAMPLES_AND_LINES: 5676 7618
HORIZONTAL_DATUM: NAD83
HORIZONTAL_COORDINATE_SYSTEM: UTM
COORDINATE_ZONE: 12
HORIZONTAL_UNITS: METERS
HORIZONTAL_RESOLUTION: 1.00000
SECONDARY_HORIZONTAL_DATUM: NAD27
XY_ORIGIN: 411065.49600 4997751.53500
SECONDARY_XY_ORIGIN: 411127.23400 4997542.11700
NATION: US
STATE: MT
NW_QUAD_CORNER_XY: 411525.81200 4997452.03500
NE_QUAD_CORNER_XY: 416441.04300 4997385.53500
SE_QUAD_CORNERY_XY: 416349.84100 4990442.46500
SW_QUAD_CORNER_XY: 411429.24400 4990508.96500
SECONDARY_NW_QUAD_XY: 411523.19300 4997234.75300
SECONDARY_NE_QUAD_XY: 416438.57000 4997168.25100
SECONDARY_SE_QUAD_XY: 416347.36900 4990225.23500
SECONDARY_SW_QUAD_XY: 411426.62600 4990291.73700
RMSE_XY: 2.60000
IMAGE_SOURCE: BLACK AND WHITE FILM
SOURCE_IMAGE_ID: NAPP 9484 258
SOURCE_IMAGE_DATE: 1995 8 14
SOURCE_DEM_DATE: 1997 11 20
AGENCY: WESTERN MAPPING CENTER (WMC)
PRODUCER: NIES MAPPING GROUP
PRODUCTION_SYSTEM: INTERGRAPH- ISPM,ISIR
COMPRESSION: UNDEFINED
STANDARD_VERSION: 1996 12
METADATA_DATE: 1998 2 27
DATA_FILE_SIZE: 43245444
BYTE_COUNT: 5676
