FILENAME: O4511263.SES.789327.tif
QUADRANGLE_NAME: BELMONT PARK RANCH
QUADRANT: SE
WEST_LONGITUDE: -112 11 15.00000
EAST_LONGITUDE: -112 7 30.00000
NORTH_LATITUDE: 45 3 45.00000
SOUTH_LATITUDE: 45 0 0.00000
PRODUCTION_DATE: 1997 11 18
RASTER_ORDER: LEFT_RIGHT/TOP_BOTTOM
BAND_ORGANIZATION: SINGLE FILE
BAND_CONTENT: BLACK&WHITE
BAND_CONTENT: UNDEFINED
BAND_CONTENT: UNDEFINED
BITS_PER_PIXEL: 8
SAMPLES_AND_LINES: 5687 7621
HORIZONTAL_DATUM: NAD83
HORIZONTAL_COORDINATE_SYSTEM: UTM
COORDINATE_ZONE: 12
HORIZONTAL_UNITS: METERS
HORIZONTAL_RESOLUTION: 1.00000
SECONDARY_HORIZONTAL_DATUM: NAD27
XY_ORIGIN: 406042.75900 4990878.76700
SECONDARY_XY_ORIGIN: 406104.63900 4990669.54400
NATION: US
STATE: MT
NW_QUAD_CORNER_XY: 406508.64700 4990579.26700
NE_QUAD_CORNER_XY: 411429.24400 4990508.96500
SE_QUAD_CORNERY_XY: 411332.78200 4983565.96900
SW_QUAD_CORNER_XY: 406406.82500 4983636.27000
SECONDARY_NW_QUAD_XY: 406505.88400 4990362.04100
SECONDARY_NE_QUAD_XY: 411426.62600 4990291.73700
SECONDARY_SE_QUAD_XY: 411330.16500 4983348.79600
SECONDARY_SW_QUAD_XY: 406404.06200 4983419.09900
RMSE_XY: 3.00000
IMAGE_SOURCE: BLACK AND WHITE FILM
SOURCE_IMAGE_ID: NAPP 9484 213
SOURCE_IMAGE_DATE: 1995 8 14
SOURCE_DEM_DATE: 1997 11 18
AGENCY: WESTERN MAPPING CENTER (WMC)
PRODUCER: NIES MAPPING GROUP
PRODUCTION_SYSTEM: INTERGRAPH- ISPM,ISIR
COMPRESSION: UNDEFINED
STANDARD_VERSION: 1996 12
METADATA_DATE: 1998 2 27
DATA_FILE_SIZE: 43346314
BYTE_COUNT: 5687
