FILENAME: O4511263.SWS.789329.tif
QUADRANGLE_NAME: BELMONT PARK RANCH
QUADRANT: SW
WEST_LONGITUDE: -112 15 0.00000
EAST_LONGITUDE: -112 11 15.00000
NORTH_LATITUDE: 45 3 45.00000
SOUTH_LATITUDE: 45 0 0.00000
PRODUCTION_DATE: 1997 11 18
RASTER_ORDER: LEFT_RIGHT/TOP_BOTTOM
BAND_ORGANIZATION: SINGLE FILE
BAND_CONTENT: BLACK&WHITE
BAND_CONTENT: UNDEFINED
BAND_CONTENT: UNDEFINED
BITS_PER_PIXEL: 8
SAMPLES_AND_LINES: 5693 7625
HORIZONTAL_DATUM: NAD83
HORIZONTAL_COORDINATE_SYSTEM: UTM
COORDINATE_ZONE: 12
HORIZONTAL_UNITS: METERS
HORIZONTAL_RESOLUTION: 1.00000
SECONDARY_HORIZONTAL_DATUM: NAD27
XY_ORIGIN: 401116.39300 4990952.86900
SECONDARY_XY_ORIGIN: 401178.50100 4990743.64500
NATION: US
STATE: MT
NW_QUAD_CORNER_XY: 401588.05000 4990653.36900
NE_QUAD_CORNER_XY: 406508.64700 4990579.26700
SE_QUAD_CORNERY_XY: 406406.82500 4983636.27000
SW_QUAD_CORNER_XY: 401480.86700 4983710.37300
SECONDARY_NW_QUAD_XY: 401585.14100 4990436.14600
SECONDARY_NE_QUAD_XY: 406505.88400 4990362.04100
SECONDARY_SE_QUAD_XY: 406404.06200 4983419.09900
SECONDARY_SW_QUAD_XY: 401477.95900 4983493.20400
RMSE_XY: 1.70000
IMAGE_SOURCE: BLACK AND WHITE FILM
SOURCE_IMAGE_ID: NAPP 9484 178
SOURCE_IMAGE_DATE: 1995 8 14
SOURCE_DEM_DATE: 1997 11 18
AGENCY: WESTERN MAPPING CENTER (WMC)
PRODUCER: NIES MAPPING GROUP
PRODUCTION_SYSTEM: INTERGRAPH- ISPM,ISIR
COMPRESSION: UNDEFINED
STANDARD_VERSION: 1996 12
METADATA_DATE: 1998 2 27
DATA_FILE_SIZE: 43414818
BYTE_COUNT: 5693
