FILENAME: O4511262.NES.789315.tif
QUADRANGLE_NAME: RED CANYON
QUADRANT: NE
WEST_LONGITUDE: -112 18 45.00000
EAST_LONGITUDE: -112 15 0.00000
NORTH_LATITUDE: 45 7 30.00000
SOUTH_LATITUDE: 45 3 45.00000
PRODUCTION_DATE: 1997 11 13
RASTER_ORDER: LEFT_RIGHT/TOP_BOTTOM
BAND_ORGANIZATION: SINGLE FILE
BAND_CONTENT: BLACK&WHITE
BAND_CONTENT: UNDEFINED
BAND_CONTENT: UNDEFINED
BITS_PER_PIXEL: 8
SAMPLES_AND_LINES: 5693 7629
HORIZONTAL_DATUM: NAD83
HORIZONTAL_COORDINATE_SYSTEM: UTM
COORDINATE_ZONE: 12
HORIZONTAL_UNITS: METERS
HORIZONTAL_RESOLUTION: 1.00000
SECONDARY_HORIZONTAL_DATUM: NAD27
XY_ORIGIN: 396302.57700 4997973.84300
SECONDARY_XY_ORIGIN: 396364.94400 4997764.40500
NATION: US
STATE: MT
NW_QUAD_CORNER_XY: 396780.12000 4997674.34300
NE_QUAD_CORNER_XY: 401695.35100 4997596.43900
SE_QUAD_CORNERY_XY: 401588.05000 4990653.36900
SW_QUAD_CORNER_XY: 396667.45300 4990731.27300
SECONDARY_NW_QUAD_XY: 396777.06500 4997457.06700
SECONDARY_NE_QUAD_XY: 401692.44100 4997379.16100
SECONDARY_SE_QUAD_XY: 401585.14100 4990436.14600
SECONDARY_SW_QUAD_XY: 396664.39900 4990514.05200
RMSE_XY: 1.40000
IMAGE_SOURCE: BLACK AND WHITE FILM
SOURCE_IMAGE_ID: NAPP 9484 93
SOURCE_IMAGE_DATE: 1995 8 14
SOURCE_DEM_DATE: 1997 11 13
AGENCY: WESTERN MAPPING CENTER (WMC)
PRODUCER: NIES MAPPING GROUP
PRODUCTION_SYSTEM: INTERGRAPH- ISPM,ISIR
COMPRESSION: UNDEFINED
STANDARD_VERSION: 1996 12
METADATA_DATE: 1998 2 27
DATA_FILE_SIZE: 43437590
BYTE_COUNT: 5693
